BEGIN:VCALENDAR
VERSION:2.0
PRODID:-//HVÖ Harmonikaverband Österreichs - ECPv4.9.7//NONSGML v1.0//EN
CALSCALE:GREGORIAN
METHOD:PUBLISH
X-WR-CALNAME:HVÖ Harmonikaverband Österreichs
X-ORIGINAL-URL:https://harmonikaverband.at
X-WR-CALDESC:Veranstaltungen im HVÖ Harmonikaverband Österreichs
BEGIN:VTIMEZONE
TZID:"Europe/Vienna"
BEGIN:DAYLIGHT
TZOFFSETFROM:+0100
TZOFFSETTO:+0200
TZNAME:CEST
DTSTART:20230326T010000
END:DAYLIGHT
BEGIN:STANDARD
TZOFFSETFROM:+0200
TZOFFSETTO:+0100
TZNAME:CET
DTSTART:20231029T010000
END:STANDARD
END:VTIMEZONE
BEGIN:VEVENT
DTSTART;TZID="Europe/Vienna":20230423T160000
DTEND;TZID="Europe/Vienna":20230423T160000
DTSTAMP:20260421T181142
CREATED:20230208T104029Z
LAST-MODIFIED:20230208T104408Z
UID:6806-1682265600-1682265600@harmonikaverband.at
SUMMARY:LA TASTIERA MAGICAWiener Melange 2023
DESCRIPTION:\n\n\n\nEine musikalische Melange mit dem Akkordeonorchester La Tastiera Magica\n\n\n\n\n\nNach dem großen Erfolg unseres Konzerts „Wiener Melange 2020“ bereiten wir Ihnen neuerlich eine Wiener Mischung aus beschwingten Wiener-Walzern\, Konzert-Polkas und traditionellen Märschen.\n \n\nMusikalische Leitung:    Gabriele Hofbauer-Mittermüller \n\n\n\n\n\n\n\n\n\nKonzertkarten: \nVVK € 18\,- (AK € 21\,-)\nKinder unter 16 Jahren -50 % \nerhältlich bei: \nJ bei allen Orchestermitgliedern\n* per Mailanfrage unter: tickets@latastieramagica.at\n) La Tastiera Magica-Tickethotline:  0699 11 54 54 50 \n\n\n\n\n  \n\n\n\n\n\n\n\n
URL:https://harmonikaverband.at/event/wiener-melange-2023/
LOCATION:Festsaal Bisamberg\, Schlossgasse 1\, Bisamberg\, 2102\, Österreich
CATEGORIES:Konzerte
ATTACH;FMTTYPE=image/jpeg:https://harmonikaverband.at/wp-content/uploads/2023/02/LTM_Frühling_2023.jpg
ORGANIZER;CN="Akkordeonverein%20La%20Tastiera%20Magica":MAILTO:tickets@latastieramagica.at
END:VEVENT
END:VCALENDAR