BEGIN:VCALENDAR
VERSION:2.0
PRODID:-//HVÖ Harmonikaverband Österreichs - ECPv4.9.7//NONSGML v1.0//EN
CALSCALE:GREGORIAN
METHOD:PUBLISH
X-WR-CALNAME:HVÖ Harmonikaverband Österreichs
X-ORIGINAL-URL:https://harmonikaverband.at
X-WR-CALDESC:Veranstaltungen im HVÖ Harmonikaverband Österreichs
BEGIN:VTIMEZONE
TZID:"Europe/Vienna"
BEGIN:DAYLIGHT
TZOFFSETFROM:+0100
TZOFFSETTO:+0200
TZNAME:CEST
DTSTART:20240331T010000
END:DAYLIGHT
BEGIN:STANDARD
TZOFFSETFROM:+0200
TZOFFSETTO:+0100
TZNAME:CET
DTSTART:20241027T010000
END:STANDARD
END:VTIMEZONE
BEGIN:VEVENT
DTSTART;TZID="Europe/Vienna":20241114T193000
DTEND;TZID="Europe/Vienna":20241114T220000
DTSTAMP:20260421T115100
CREATED:20241111T114348Z
LAST-MODIFIED:20241111T114348Z
UID:8944-1731612600-1731621600@harmonikaverband.at
SUMMARY:WIENER BRUT - "Blick nach vorn - an Austrian View"
DESCRIPTION:Mit ihrem neuen Programm beschäftigt sich die Wiener Brut einmal mehr mit der österreichischen Seele und blickt trotz vieler Krisen hoffnungsfroh in die Zukunft! \nhttps://katharinahohenberger.at/portfolio/wiener-brut/ \n
URL:https://harmonikaverband.at/event/wiener-brut-blick-nach-vorn-an-austrian-view/
LOCATION:Radio Kulturhaus – Sendesaal\, Argentinierstraße\, Wien 4
CATEGORIES:Konzerte
ATTACH;FMTTYPE=image/jpeg:https://harmonikaverband.at/wp-content/uploads/2024/11/20231013-hohenberger-wiener-brut-@-schoeneberg-c2023-www.stephanmussil.at-113-16-9-9K-COL-1536x864.jpg
END:VEVENT
END:VCALENDAR