BEGIN:VCALENDAR
VERSION:2.0
PRODID:-//HVÖ Harmonikaverband Österreichs - ECPv4.9.7//NONSGML v1.0//EN
CALSCALE:GREGORIAN
METHOD:PUBLISH
X-WR-CALNAME:HVÖ Harmonikaverband Österreichs
X-ORIGINAL-URL:https://harmonikaverband.at
X-WR-CALDESC:Veranstaltungen im HVÖ Harmonikaverband Österreichs
BEGIN:VTIMEZONE
TZID:"Europe/Vienna"
BEGIN:DAYLIGHT
TZOFFSETFROM:+0100
TZOFFSETTO:+0200
TZNAME:CEST
DTSTART:20190331T010000
END:DAYLIGHT
BEGIN:STANDARD
TZOFFSETFROM:+0200
TZOFFSETTO:+0100
TZNAME:CET
DTSTART:20191027T010000
END:STANDARD
END:VTIMEZONE
BEGIN:VEVENT
DTSTART;TZID="Europe/Vienna":20190604T190000
DTEND;TZID="Europe/Vienna":20190604T210000
DTSTAMP:20260422T054804
CREATED:20190222T094446Z
LAST-MODIFIED:20190222T094446Z
UID:2442-1559674800-1559682000@harmonikaverband.at
SUMMARY:Wiener Akkordeon Ensemble\, Leitung Gertrude Kisser
DESCRIPTION:Dienstag\, 4. Juni 2019  19:00 Uhr\nFestsaal des Magistratischen Bezirksamtes Rudolfsheim-Fünfhaus\, 1150 Wien\, Rosinagasse 4\nDer Eintritt ist frei \n
URL:https://harmonikaverband.at/event/wiener-akkordeon-ensemble-leitung-gertrude-kisser/
LOCATION:Bezirksamt Rudolfsheim-Fünfhaus\, Rosinagasse 4\, Wien\, 1150
CATEGORIES:Konzerte
ATTACH;FMTTYPE=image/jpeg:https://harmonikaverband.at/wp-content/uploads/2018/11/WAE-07.06.18-.jpg
END:VEVENT
END:VCALENDAR