BEGIN:VCALENDAR
VERSION:2.0
PRODID:-//HVÖ Harmonikaverband Österreichs - ECPv4.9.7//NONSGML v1.0//EN
CALSCALE:GREGORIAN
METHOD:PUBLISH
X-WR-CALNAME:HVÖ Harmonikaverband Österreichs
X-ORIGINAL-URL:https://harmonikaverband.at
X-WR-CALDESC:Veranstaltungen im HVÖ Harmonikaverband Österreichs
BEGIN:VTIMEZONE
TZID:"Europe/Vienna"
BEGIN:DAYLIGHT
TZOFFSETFROM:+0100
TZOFFSETTO:+0200
TZNAME:CEST
DTSTART:20220327T010000
END:DAYLIGHT
BEGIN:STANDARD
TZOFFSETFROM:+0200
TZOFFSETTO:+0100
TZNAME:CET
DTSTART:20221030T010000
END:STANDARD
END:VTIMEZONE
BEGIN:VEVENT
DTSTART;VALUE=DATE:20221027
DTEND;VALUE=DATE:20221031
DTSTAMP:20260421T181425
CREATED:20220427T142506Z
LAST-MODIFIED:20220803T083408Z
UID:6106-1666828800-1667174399@harmonikaverband.at
SUMMARY:VIII. Internationale Akkordeontage in Prag
DESCRIPTION:Prof. Ladislav Horak (Konservatorium Prag) sprach bei seiner Anwesenheit in Perg — anlässlich seiner Jurytätigkeit beim Tag der Harmonika — eine persönliche Einladung an alle österreichischen \n\nSolisten\nEnsembles und\nOrchester\n\naus\, an den Akkordeontagen in Prag teilzunehmen und sich bis 23. September 2022 anzumelden! \n  \nletaknem\n  \nhttps://www.accordion.cz/?p=2076&lang=de \n
URL:https://harmonikaverband.at/event/viii-internationale-akkordeontage-in-prag/
LOCATION:PRAG\, Tschechische Republik
CATEGORIES:Wettbewerbe
ATTACH;FMTTYPE=image/jpeg:https://harmonikaverband.at/wp-content/uploads/2022/04/cropped-baner_logo2.jpg
END:VEVENT
END:VCALENDAR