BEGIN:VCALENDAR
VERSION:2.0
PRODID:-//HVÖ Harmonikaverband Österreichs - ECPv4.9.7//NONSGML v1.0//EN
CALSCALE:GREGORIAN
METHOD:PUBLISH
X-WR-CALNAME:HVÖ Harmonikaverband Österreichs
X-ORIGINAL-URL:https://harmonikaverband.at
X-WR-CALDESC:Veranstaltungen im HVÖ Harmonikaverband Österreichs
BEGIN:VTIMEZONE
TZID:"Europe/Vienna"
BEGIN:DAYLIGHT
TZOFFSETFROM:+0100
TZOFFSETTO:+0200
TZNAME:CEST
DTSTART:20210328T010000
END:DAYLIGHT
BEGIN:STANDARD
TZOFFSETFROM:+0200
TZOFFSETTO:+0100
TZNAME:CET
DTSTART:20211031T010000
END:STANDARD
END:VTIMEZONE
BEGIN:VEVENT
DTSTART;TZID="Europe/Vienna":20211010T133000
DTEND;TZID="Europe/Vienna":20211010T170000
DTSTAMP:20260422T003858
CREATED:20210914T124651Z
LAST-MODIFIED:20210914T125358Z
UID:5279-1633872600-1633885200@harmonikaverband.at
SUMMARY:Vielharmonie-Konzert in Salzburg
DESCRIPTION:
URL:https://harmonikaverband.at/event/vielharmonie-konzert-in-salzburg/
LOCATION:Schloss Hellbrunn – Park\, Fürstenweg 37\, Salzburg\, 5020
CATEGORIES:Konzerte
ATTACH;FMTTYPE=image/png:https://harmonikaverband.at/wp-content/uploads/2021/09/Vielharmonie.png
END:VEVENT
END:VCALENDAR