BEGIN:VCALENDAR
VERSION:2.0
PRODID:-//HVÖ Harmonikaverband Österreichs - ECPv4.9.7//NONSGML v1.0//EN
CALSCALE:GREGORIAN
METHOD:PUBLISH
X-WR-CALNAME:HVÖ Harmonikaverband Österreichs
X-ORIGINAL-URL:https://harmonikaverband.at
X-WR-CALDESC:Veranstaltungen im HVÖ Harmonikaverband Österreichs
BEGIN:VTIMEZONE
TZID:"Europe/Vienna"
BEGIN:DAYLIGHT
TZOFFSETFROM:+0100
TZOFFSETTO:+0200
TZNAME:CEST
DTSTART:20240331T010000
END:DAYLIGHT
BEGIN:STANDARD
TZOFFSETFROM:+0200
TZOFFSETTO:+0100
TZNAME:CET
DTSTART:20241027T010000
END:STANDARD
END:VTIMEZONE
BEGIN:VEVENT
DTSTART;TZID="Europe/Vienna":20241123T110000
DTEND;TZID="Europe/Vienna":20241123T130000
DTSTAMP:20260421T115215
CREATED:20241016T162652Z
LAST-MODIFIED:20241016T162652Z
UID:8865-1732359600-1732366800@harmonikaverband.at
SUMMARY:UNITED ACCORDIONS im J.J.F.-Konservatorium
DESCRIPTION: \n
URL:https://harmonikaverband.at/event/united-accordions-im-j-j-f-konservatorium/
LOCATION:J.J.Fux Konservatorium\, Nikolaigasse 2\, Graz\, 8020
CATEGORIES:Konzerte
ATTACH;FMTTYPE=image/jpeg:https://harmonikaverband.at/wp-content/uploads/2024/10/United-Accordions1.jpg
END:VEVENT
END:VCALENDAR