BEGIN:VCALENDAR
VERSION:2.0
PRODID:-//HVÖ Harmonikaverband Österreichs - ECPv4.9.7//NONSGML v1.0//EN
CALSCALE:GREGORIAN
METHOD:PUBLISH
X-WR-CALNAME:HVÖ Harmonikaverband Österreichs
X-ORIGINAL-URL:https://harmonikaverband.at
X-WR-CALDESC:Veranstaltungen im HVÖ Harmonikaverband Österreichs
BEGIN:VTIMEZONE
TZID:"Europe/Vienna"
BEGIN:DAYLIGHT
TZOFFSETFROM:+0100
TZOFFSETTO:+0200
TZNAME:CEST
DTSTART:20180325T010000
END:DAYLIGHT
BEGIN:STANDARD
TZOFFSETFROM:+0200
TZOFFSETTO:+0100
TZNAME:CET
DTSTART:20181028T010000
END:STANDARD
END:VTIMEZONE
BEGIN:VEVENT
DTSTART;VALUE=DATE:20181110
DTEND;VALUE=DATE:20181117
DTSTAMP:20260422T101315
CREATED:20180823T064658Z
LAST-MODIFIED:20180823T064658Z
UID:1162-1541808000-1542412799@harmonikaverband.at
SUMMARY:Trophée Mondial (CMA) in Victoria\, BC (Kanada)
DESCRIPTION:in Victoria\, BC (Kanada) \n
URL:https://harmonikaverband.at/event/trophee-mondial-cma-in-victoria-bc-kanada/
CATEGORIES:Wettbewerbe
END:VEVENT
END:VCALENDAR