BEGIN:VCALENDAR
VERSION:2.0
PRODID:-//HVÖ Harmonikaverband Österreichs - ECPv4.9.7//NONSGML v1.0//EN
CALSCALE:GREGORIAN
METHOD:PUBLISH
X-WR-CALNAME:HVÖ Harmonikaverband Österreichs
X-ORIGINAL-URL:https://harmonikaverband.at
X-WR-CALDESC:Veranstaltungen im HVÖ Harmonikaverband Österreichs
BEGIN:VTIMEZONE
TZID:"Europe/Vienna"
BEGIN:DAYLIGHT
TZOFFSETFROM:+0100
TZOFFSETTO:+0200
TZNAME:CEST
DTSTART:20190331T010000
END:DAYLIGHT
BEGIN:STANDARD
TZOFFSETFROM:+0200
TZOFFSETTO:+0100
TZNAME:CET
DTSTART:20191027T010000
END:STANDARD
END:VTIMEZONE
BEGIN:VEVENT
DTSTART;TZID="Europe/Vienna":20190413T140000
DTEND;TZID="Europe/Vienna":20190413T210000
DTSTAMP:20260422T053329
CREATED:20190401T052117Z
LAST-MODIFIED:20190402T073644Z
UID:2556-1555164000-1555189200@harmonikaverband.at
SUMMARY:TON - ART  Konzert & Kunstausstellung mit den Swinging Accordians
DESCRIPTION:
URL:https://harmonikaverband.at/event/ton-art-konzert-kunstausstellung-mit-den-swinging-accordians/
LOCATION:Bürgerzentrum Böheimkirchen\, Marktplatz 2\, Böheimkirchen\, 3071
CATEGORIES:Konzerte
ATTACH;FMTTYPE=application/pdf:https://harmonikaverband.at/wp-content/uploads/2019/04/20190413-Tonart-Ausstellung.pdf
ORGANIZER;CN="Regiomnalmusikschule%20B%C3%B6heimkirchen%20-%20Kasten%20-%20Kirchstetten":MAILTO:msbkk@aon.at
END:VEVENT
END:VCALENDAR