BEGIN:VCALENDAR
VERSION:2.0
PRODID:-//HVÖ Harmonikaverband Österreichs - ECPv4.9.7//NONSGML v1.0//EN
CALSCALE:GREGORIAN
METHOD:PUBLISH
X-WR-CALNAME:HVÖ Harmonikaverband Österreichs
X-ORIGINAL-URL:https://harmonikaverband.at
X-WR-CALDESC:Veranstaltungen im HVÖ Harmonikaverband Österreichs
BEGIN:VTIMEZONE
TZID:"Europe/Vienna"
BEGIN:DAYLIGHT
TZOFFSETFROM:+0100
TZOFFSETTO:+0200
TZNAME:CEST
DTSTART:20220327T010000
END:DAYLIGHT
BEGIN:STANDARD
TZOFFSETFROM:+0200
TZOFFSETTO:+0100
TZNAME:CET
DTSTART:20221030T010000
END:STANDARD
END:VTIMEZONE
BEGIN:VEVENT
DTSTART;TZID="Europe/Vienna":20220427T193000
DTEND;TZID="Europe/Vienna":20220427T193000
DTSTAMP:20260421T195059
CREATED:20190829T133038Z
LAST-MODIFIED:20220323T145519Z
UID:3079-1651087800-1651087800@harmonikaverband.at
SUMMARY:Theresia und Thomas Gansch – „Doppel GANSCH“ mit Paul Schuberth
DESCRIPTION:Theresia Gansch – Stimme\, Vortrag \nThomas Gansch – Trompete\, Flügelhorn\, Stimme\, Vortrag \nPaul Schuberth – Akkordeon \n  \nhttps://www.matthias-schorn.at/veranstaltung/doppelgansch-theresia-gansch-thomas-gansch-paul-schuberth/ \n
URL:https://harmonikaverband.at/event/theresia-und-thomas-gansch-doppel-gansch-mit-paul-schuberth/
LOCATION:Kulturbahnhof Altenmarkt\, Thenneberg 63\, Altenmarkt an der Triesting\, 2571
CATEGORIES:Konzerte
ATTACH;FMTTYPE=image/jpeg:https://harmonikaverband.at/wp-content/uploads/2019/08/csm_03__04_09_2019___Theresia___Thomas_Gansch_550226ba6b.jpg
END:VEVENT
END:VCALENDAR