BEGIN:VCALENDAR
VERSION:2.0
PRODID:-//HVÖ Harmonikaverband Österreichs - ECPv4.9.7//NONSGML v1.0//EN
CALSCALE:GREGORIAN
METHOD:PUBLISH
X-WR-CALNAME:HVÖ Harmonikaverband Österreichs
X-ORIGINAL-URL:https://harmonikaverband.at
X-WR-CALDESC:Veranstaltungen im HVÖ Harmonikaverband Österreichs
BEGIN:VTIMEZONE
TZID:"Europe/Vienna"
BEGIN:DAYLIGHT
TZOFFSETFROM:+0100
TZOFFSETTO:+0200
TZNAME:CEST
DTSTART:20190331T010000
END:DAYLIGHT
BEGIN:STANDARD
TZOFFSETFROM:+0200
TZOFFSETTO:+0100
TZNAME:CET
DTSTART:20191027T010000
END:STANDARD
END:VTIMEZONE
BEGIN:VEVENT
DTSTART;TZID="Europe/Vienna":20190525T193000
DTEND;TZID="Europe/Vienna":20190525T220000
DTSTAMP:20260419T202038
CREATED:20190502T124225Z
LAST-MODIFIED:20190502T124225Z
UID:2855-1558812600-1558821600@harmonikaverband.at
SUMMARY:Tastenimpressionen - Salzburger Akkordeonverein Saalfelden
DESCRIPTION:
URL:https://harmonikaverband.at/event/tastenimpressionen-salzburger-akkordeonverein-saalfelden/
LOCATION:HTL Saalfelden\, Salzburg\, Österreich
CATEGORIES:Konzerte
ATTACH;FMTTYPE=image/jpeg:https://harmonikaverband.at/wp-content/uploads/2019/05/SAS-25.5.19.jpg
END:VEVENT
END:VCALENDAR