BEGIN:VCALENDAR
VERSION:2.0
PRODID:-//HVÖ Harmonikaverband Österreichs - ECPv4.9.7//NONSGML v1.0//EN
CALSCALE:GREGORIAN
METHOD:PUBLISH
X-WR-CALNAME:HVÖ Harmonikaverband Österreichs
X-ORIGINAL-URL:https://harmonikaverband.at
X-WR-CALDESC:Veranstaltungen im HVÖ Harmonikaverband Österreichs
BEGIN:VTIMEZONE
TZID:"Europe/Vienna"
BEGIN:DAYLIGHT
TZOFFSETFROM:+0100
TZOFFSETTO:+0200
TZNAME:CEST
DTSTART:20230326T010000
END:DAYLIGHT
BEGIN:STANDARD
TZOFFSETFROM:+0200
TZOFFSETTO:+0100
TZNAME:CET
DTSTART:20231029T010000
END:STANDARD
END:VTIMEZONE
BEGIN:VEVENT
DTSTART;VALUE=DATE:20230518
DTEND;VALUE=DATE:20230522
DTSTAMP:20260421T163146
CREATED:20221019T095149Z
LAST-MODIFIED:20230421T122101Z
UID:6538-1684368000-1684713599@harmonikaverband.at
SUMMARY:TAG DER HARMONIKA 2023 in Stainz\,Österreichische Staatsmeisterschaften
DESCRIPTION:für Akkordeon\, Steirische Harmonika und Volksmusikgruppen! \nDas erwartet Sie beim TAG DER HARMONIKA in Stainz:  \nDonnerstag\, 18.05.2023 – 14:30 Uhr:\n\n 14:30 UhrEmpfang im Bahnhofpark (Flascherlzug) durch Musikverein Stainz \n15:00 Uhr: Flascherlzug-Sonderfahrt mit musikalischer Begleitung. Im Zug spielen Herbert’s Harmonikafreunde\, in der Haltestelle Kraubath “Die Mooskirchner” \n18:00 Uhr: Eröffnungsfeier in der Festhalle Stallhof (freier Eintritt) Moderation: Karl Lenz (ORF-Steiermark) • Startrompeter Toni Maier • Kärntner Viergesang • Volkstanzgruppe Stainz • Blechgspånn • Die Aufblos’nan • Gottfried Hubmann • Wiener Akkordeon-Kammer-Ensemble • Duo Kollektiv – Akkordeonweltmeister 2021 in der Kategorie Worldmusic (CIA) • Mißebner Trio mit der Juniorenweltmeisterin Klara Mißebner (Steirische Harmonika) • Die Mooskirchner • Tangopaar Anja Sturmann und Michael Somma  \n  \nFreitag\, 19.05.2023 – 8:30 Uhr:\n 8:30 Uhr30. Österreichischer Wettbewerb für Akkordeon Solo\, Duo\, Ensemble und Orchester und 4. Erich Moser Gedenkwettbewerb International für Steirische Harmonika \n 18:30 Uhr:Preisträgerkonzert und Preisverleihung* Akkordeon und Erich Moser-Wettbewerb  \nSamstag\, 20.05.2023 – 8:30 Uhr:\n8:30 Uhr: 28. Österreichische Staatsmeisterschaften für Steirische Harmonika – Solo und Duo und 23. Österreichische Staatsmeisterschaften für Volksmusikgruppen  \n18:30 Uhr: Preisträgerkonzert und Preisverleihung* Steirische Harmonika und Volksmusikgruppen  \n  \nSonntag\, 21.05.2023 – 10:00 Uhr: \n10:00 Uhr: Heilige Messe in der Stiftskirche Stainz mit Monsignore Franz Neumüller Gestaltung: Toni Maier\, Miriam Zebinger und Siegmund Schmolli* Alle Konzerte in der Festhalle Stallhof! Kommen Sie in die schöne Südsteiermark und genießen Sie diese Tage voll mit toller Musik!  \nInformationen und Details über Unterkünfte finden Sie auf  Unterkünfte in Stainz \n  \nEINTRITTSPREISE \nTageskarten\nErwachsene:  € 12\,00\nKinder / Studenten:  € 6\,00\nFamilienkarte (2 Erwachsene\, 2 Kinder):  € 24\,00 \n2-Tage-Festivaltickets (alle Wettbewerbe und Preisverleihungen) \nErwachsene:  € 18\,00\nKinder/Studenten:  € 9\,00\nFamilienkarte (2 Erwachsene\, 2 Kinder):  € 36\,00 \n(Programm als pdf herunterladen) \nAlle Details – Ausschreibungen\, Noten-Download etc. unter  Tag der Harmonika 2023 \n
URL:https://harmonikaverband.at/event/tag-der-harmonika-2023-in-stainz/
LOCATION:Mittelschule Stainz\, Badgasse 24\, Stainz\, 8510
CATEGORIES:Wettbewerbe
ATTACH;FMTTYPE=image/jpeg:https://harmonikaverband.at/wp-content/uploads/2022/10/Logo-TdH2023.jpg
END:VEVENT
END:VCALENDAR