BEGIN:VCALENDAR
VERSION:2.0
PRODID:-//HVÖ Harmonikaverband Österreichs - ECPv4.9.7//NONSGML v1.0//EN
CALSCALE:GREGORIAN
METHOD:PUBLISH
X-WR-CALNAME:HVÖ Harmonikaverband Österreichs
X-ORIGINAL-URL:https://harmonikaverband.at
X-WR-CALDESC:Veranstaltungen im HVÖ Harmonikaverband Österreichs
BEGIN:VTIMEZONE
TZID:"Europe/Vienna"
BEGIN:DAYLIGHT
TZOFFSETFROM:+0100
TZOFFSETTO:+0200
TZNAME:CEST
DTSTART:20220327T010000
END:DAYLIGHT
BEGIN:STANDARD
TZOFFSETFROM:+0200
TZOFFSETTO:+0100
TZNAME:CET
DTSTART:20221030T010000
END:STANDARD
END:VTIMEZONE
BEGIN:VEVENT
DTSTART;VALUE=DATE:20220616
DTEND;VALUE=DATE:20220620
DTSTAMP:20260421T212711
CREATED:20200706T192133Z
LAST-MODIFIED:20210922T155450Z
UID:4218-1655337600-1655683199@harmonikaverband.at
SUMMARY:Tag der Harmonika 2022
DESCRIPTION:Endlich ist es soweit\, der Termin und der Austragungsort für den Tag der Harmonika 2022 stehen fest.\nNach all den umfangreichen Vorbereitungen konnten 2020 und auch 2021 die Staatsmeisterschaften aufgrund der Corona-Krise leider nicht ausgetragen werden.\nUmso mehr freut es uns\, Ihnen jetzt den Termin für 2022 bekannt zu geben: \n\n16. – 19. Juni 2022 in Perg/Oberösterreich\n \n\nAb Oktober 2021 sind wieder alle Kandidaten in den Disziplinen \n\nAkkordeon\nSteirische Harmonika \nMundharmonika\n\naufgerufen\, sich zu den Wettbewerben anzumelden. \n\n“Ganz besonders freut es mich\,” sagt Werner Weibert – Präsident des HVÖ\, “dass ich für den Tag der Harmonika 2022 in Perg zwei neue Highlights ankündigen darf.”   Es wird nämlich das 2020 durch den HVÖ gegründete       zum ersten Mal im Rahmen eines Tags der Harmonika auftreten. \n\n “In Perg wird das größte Akkordeon-Orchester Österreichs spielen” \n\nkündigt uns Christian Höller schon jetzt an\, darum bewerben Sie sich doch gleich als Mitspieler für den Auftritt in Perg! \nDas Österreich-Orchester ist eine Initiative unserer HVÖ-Vorstände Christian Höller und Johannes Münzner\, die alle Akkordeonisten Österreichs zum Mitwirken aufgerufen haben. \nAls zweite Neuigkeit verkündet Werner Weibert die Premiere des Cyrill-Demian-Preises\, welcher in den neuen Internationalen Gästeklassen vergeben wird. Jedem Harmonikaspieler und Akkordeonisten ist Cyrill Demian\, der Erfinder des “Accordions”\, ein Begriff.\nInformationen zum Cyrill-Demian-Preis finden sie in der im Juli erschienenen Sommerausgabe unserer Mitgliederzeitschrift “Harmonikaforum“\, in der auch  die Geschichte des Cyrill Demian in einer eigenen Beitragsreihe nachzulesen ist. \n\nWeitere Informationen zum Tag der Harmonika 2022: \nDie Ausschreibungen zu den Staatsmeisterschaften werden Anfang Oktober auf der HVÖ-Homepage veröffentlicht\, die Online-Anmeldung ist ab Jänner 2022 möglich! \n\n
URL:https://harmonikaverband.at/event/tag-der-harmonika-2021/
CATEGORIES:Konzerte,Wettbewerbe
ATTACH;FMTTYPE=image/png:https://harmonikaverband.at/wp-content/uploads/2021/05/Logo-PERG-22-1.png
ORGANIZER;CN="Harmonikaverband%20%C3%96sterreichs":MAILTO:office@harmonikaverband.at
END:VEVENT
END:VCALENDAR