BEGIN:VCALENDAR
VERSION:2.0
PRODID:-//HVÖ Harmonikaverband Österreichs - ECPv4.9.7//NONSGML v1.0//EN
CALSCALE:GREGORIAN
METHOD:PUBLISH
X-WR-CALNAME:HVÖ Harmonikaverband Österreichs
X-ORIGINAL-URL:https://harmonikaverband.at
X-WR-CALDESC:Veranstaltungen im HVÖ Harmonikaverband Österreichs
BEGIN:VTIMEZONE
TZID:"Europe/Vienna"
BEGIN:DAYLIGHT
TZOFFSETFROM:+0100
TZOFFSETTO:+0200
TZNAME:CEST
DTSTART:20220327T010000
END:DAYLIGHT
BEGIN:STANDARD
TZOFFSETFROM:+0200
TZOFFSETTO:+0100
TZNAME:CET
DTSTART:20221030T010000
END:STANDARD
END:VTIMEZONE
BEGIN:VEVENT
DTSTART;TZID="Europe/Vienna":20220514T183000
DTEND;TZID="Europe/Vienna":20220514T183000
DTSTAMP:20260421T213011
CREATED:20220419T083110Z
LAST-MODIFIED:20220419T083551Z
UID:6095-1652553000-1652553000@harmonikaverband.at
SUMMARY:Swinging Accordians: MUSICAL HITS & DINNER
DESCRIPTION:Einladung Musical-Dinner 14.5.22\n
URL:https://harmonikaverband.at/event/swinging-accordians-musical-hits-dinner/
LOCATION:Gasthaus Kari\, Brand 8\, Brand\, Niederösterreich\, 3053\, Österreich
CATEGORIES:Konzerte
END:VEVENT
END:VCALENDAR