BEGIN:VCALENDAR
VERSION:2.0
PRODID:-//HVÖ Harmonikaverband Österreichs - ECPv4.9.7//NONSGML v1.0//EN
CALSCALE:GREGORIAN
METHOD:PUBLISH
X-WR-CALNAME:HVÖ Harmonikaverband Österreichs
X-ORIGINAL-URL:https://harmonikaverband.at
X-WR-CALDESC:Veranstaltungen im HVÖ Harmonikaverband Österreichs
BEGIN:VTIMEZONE
TZID:"Europe/Vienna"
BEGIN:DAYLIGHT
TZOFFSETFROM:+0100
TZOFFSETTO:+0200
TZNAME:CEST
DTSTART:20200329T010000
END:DAYLIGHT
BEGIN:STANDARD
TZOFFSETFROM:+0200
TZOFFSETTO:+0100
TZNAME:CET
DTSTART:20201025T010000
END:STANDARD
END:VTIMEZONE
BEGIN:VEVENT
DTSTART;TZID="Europe/Vienna":20200725T150000
DTEND;TZID="Europe/Vienna":20200725T150000
DTSTAMP:20260423T115046
CREATED:20200628T165801Z
LAST-MODIFIED:20200628T165801Z
UID:4085-1595689200-1595689200@harmonikaverband.at
SUMMARY:SommerkonzertMusikwoche Bad Traunstein 2020
DESCRIPTION:
URL:https://harmonikaverband.at/event/sommerkonzertmusikwoche-bad-traunstein-2020/
LOCATION:Pfarrkirche Bad Traunstein\, Oberer Markt 1\, Bad Traunstein\, 3632
ATTACH;FMTTYPE=image/jpeg:https://harmonikaverband.at/wp-content/uploads/2020/06/LTM_Musikwoche_20_Abschluss.jpg
END:VEVENT
END:VCALENDAR