BEGIN:VCALENDAR
VERSION:2.0
PRODID:-//HVÖ Harmonikaverband Österreichs - ECPv4.9.7//NONSGML v1.0//EN
CALSCALE:GREGORIAN
METHOD:PUBLISH
X-WR-CALNAME:HVÖ Harmonikaverband Österreichs
X-ORIGINAL-URL:https://harmonikaverband.at
X-WR-CALDESC:Veranstaltungen im HVÖ Harmonikaverband Österreichs
BEGIN:VTIMEZONE
TZID:"Europe/Vienna"
BEGIN:DAYLIGHT
TZOFFSETFROM:+0100
TZOFFSETTO:+0200
TZNAME:CEST
DTSTART:20190331T010000
END:DAYLIGHT
BEGIN:STANDARD
TZOFFSETFROM:+0200
TZOFFSETTO:+0100
TZNAME:CET
DTSTART:20191027T010000
END:STANDARD
END:VTIMEZONE
BEGIN:VEVENT
DTSTART;TZID="Europe/Vienna":20190521T190000
DTEND;TZID="Europe/Vienna":20190521T190000
DTSTAMP:20260419T221232
CREATED:20190412T084659Z
LAST-MODIFIED:20190413T065420Z
UID:2627-1558465200-1558465200@harmonikaverband.at
SUMMARY:Sommerkonzert des Musikverein Forte  Auf Kreuzfahrt
DESCRIPTION:Die FORTE geht auf Kreuzfahrt und läuft die tollsten Häfen an. Von der Nordseeküste bis nach Britannien\, von Griechenland über den großen Teich in die Karibik geht die Reise und überall wird altbekannte Musik neu entdeckt.\nWir haben für Sie eine Kajüte reserviert!\nAbfahrt ist am 21. Mai 2019 um 19:00\n(doors open: 18:00) \nDie Überfahrt ist wie immer gratis. \nSchiff ahoi. \n
URL:https://harmonikaverband.at/event/sommerkonzert-des-musikverein-forte-auf-kreuzfahrt/
LOCATION:Haus der Begegnung – Brigittenau\, Raffaelgasse 11\, Wien\, 1200
CATEGORIES:Konzerte
ATTACH;FMTTYPE=image/jpeg:https://harmonikaverband.at/wp-content/uploads/2019/04/Sommer-2019.jpg
ORGANIZER;CN="Musikverein%20Forte":MAILTO:musikverein.forte@chello.at
END:VEVENT
END:VCALENDAR