BEGIN:VCALENDAR
VERSION:2.0
PRODID:-//HVÖ Harmonikaverband Österreichs - ECPv4.9.7//NONSGML v1.0//EN
CALSCALE:GREGORIAN
METHOD:PUBLISH
X-WR-CALNAME:HVÖ Harmonikaverband Österreichs
X-ORIGINAL-URL:https://harmonikaverband.at
X-WR-CALDESC:Veranstaltungen im HVÖ Harmonikaverband Österreichs
BEGIN:VTIMEZONE
TZID:"Europe/Vienna"
BEGIN:DAYLIGHT
TZOFFSETFROM:+0100
TZOFFSETTO:+0200
TZNAME:CEST
DTSTART:20240331T010000
END:DAYLIGHT
BEGIN:STANDARD
TZOFFSETFROM:+0200
TZOFFSETTO:+0100
TZNAME:CET
DTSTART:20241027T010000
END:STANDARD
END:VTIMEZONE
BEGIN:VEVENT
DTSTART;TZID="Europe/Vienna":20241102T170000
DTEND;TZID="Europe/Vienna":20241102T170000
DTSTAMP:20260421T090943
CREATED:20240412T075815Z
LAST-MODIFIED:20240602T065605Z
UID:8197-1730566800-1730566800@harmonikaverband.at
SUMMARY:Senden - Wien\, eine Akkordeoncollage  Wiener Akkordeonclub Favoriten
DESCRIPTION:\nEs spielen für Sie:\nAkkordeonorchester der Musikvereinigung Senden\nOrchester des Wiener Akkordeonclub Favoriten \nKartenreservierung:\nGabriele Ebenstein (0664/143 09 78\, gabriele.ebenstein@gmx.at)\nKartenpreis: € 19/ € 16 für WAF-Mitglieder\, Kinder und Jugendliche bis 16 Jahren \n\n  \n
URL:https://harmonikaverband.at/event/senden-wien-eine-akkordeoncollage-wiener-akkordeonclub-favoriten/
LOCATION:Yamaha Concert Hall\, Schleiergasse 20\, Wien\, 1100
CATEGORIES:Konzerte
ATTACH;FMTTYPE=image/jpeg:https://harmonikaverband.at/wp-content/uploads/2024/04/flyer-Senden_final-1-002.jpg
ORGANIZER;CN="Wiener%20Akkordeonclub%20Favoriten":MAILTO:info@akkordeonclub.at
END:VEVENT
END:VCALENDAR