BEGIN:VCALENDAR
VERSION:2.0
PRODID:-//HVÖ Harmonikaverband Österreichs - ECPv4.9.7//NONSGML v1.0//EN
CALSCALE:GREGORIAN
METHOD:PUBLISH
X-WR-CALNAME:HVÖ Harmonikaverband Österreichs
X-ORIGINAL-URL:https://harmonikaverband.at
X-WR-CALDESC:Veranstaltungen im HVÖ Harmonikaverband Österreichs
BEGIN:VTIMEZONE
TZID:"Europe/Vienna"
BEGIN:DAYLIGHT
TZOFFSETFROM:+0100
TZOFFSETTO:+0200
TZNAME:CEST
DTSTART:20230326T010000
END:DAYLIGHT
BEGIN:STANDARD
TZOFFSETFROM:+0200
TZOFFSETTO:+0100
TZNAME:CET
DTSTART:20231029T010000
END:STANDARD
END:VTIMEZONE
BEGIN:VEVENT
DTSTART;TZID="Europe/Vienna":20230611T110000
DTEND;TZID="Europe/Vienna":20230611T160000
DTSTAMP:20260421T163249
CREATED:20230312T153040Z
LAST-MODIFIED:20230523T102545Z
UID:6864-1686481200-1686499200@harmonikaverband.at
SUMMARY:PICKNICK-Konzert der Swinging Accordians
DESCRIPTION:. . . im Park von Böheimkirchen! \n
URL:https://harmonikaverband.at/event/picknick-konzert-der-swinging-accordians/
LOCATION:Park Böheimkirchen\, Hochfeldstraße 5\, Böheimkirchen\, 3071
CATEGORIES:Konzerte
ATTACH;FMTTYPE=image/jpeg:https://harmonikaverband.at/wp-content/uploads/2023/03/Picknick-2023.jpg
END:VEVENT
END:VCALENDAR