BEGIN:VCALENDAR
VERSION:2.0
PRODID:-//HVÖ Harmonikaverband Österreichs - ECPv4.9.7//NONSGML v1.0//EN
CALSCALE:GREGORIAN
METHOD:PUBLISH
X-WR-CALNAME:HVÖ Harmonikaverband Österreichs
X-ORIGINAL-URL:https://harmonikaverband.at
X-WR-CALDESC:Veranstaltungen im HVÖ Harmonikaverband Österreichs
BEGIN:VTIMEZONE
TZID:"Europe/Vienna"
BEGIN:DAYLIGHT
TZOFFSETFROM:+0100
TZOFFSETTO:+0200
TZNAME:CEST
DTSTART:20220327T010000
END:DAYLIGHT
BEGIN:STANDARD
TZOFFSETFROM:+0200
TZOFFSETTO:+0100
TZNAME:CET
DTSTART:20221030T010000
END:STANDARD
END:VTIMEZONE
BEGIN:VEVENT
DTSTART;TZID="Europe/Vienna":20220222T203000
DTEND;TZID="Europe/Vienna":20220222T203000
DTSTAMP:20260421T213300
CREATED:20220210T123240Z
LAST-MODIFIED:20220210T123240Z
UID:5939-1645561800-1645561800@harmonikaverband.at
SUMMARY:Paula Barembuem & Christian Bakanic's Trio Infernal  >>> Ein kreativer Tanz mit dem Tango
DESCRIPTION:Paula Barembuem\, Stimme\nChristian Bakanic\, Akkordeon\nChristian Wendt\, Kontrabass\nJörg Haberl\, Schlagzeug \nFür die virtuosen Musiker des Christian Bakanic’s Trio Infernal galt es von Anfang an neue Wege zu beschreiten. Dabei sehen sie sich nicht als Grenzgänger\, sondern als Botschafter zwischen den Klangwelten von Jazz\, Tango und modernen Grooves der Club-Szene wie House und Drum’n’Bass. Das korrespondiert hervorragend mit dem Selbstverständnis der in Buenos Aires geborenen Wahlwiener Sängerin Paula Barembuem: „happy to build bridges between styles that seem to have little in common.“\nPaula und das Trio begegneten sich vor einigen Jahren bei einem Konzert in Wien. Dabei entstand eine magische\, durch gegenseitige Faszination getragene Zusammenarbeit: hier die Vertrautheit Barembuems mit Tango als musikalischer Alltags-Kultur\, dort die Souveränität Christian Bakanics Trio im Umgang mit der Musik von Astor Piazzolla.\nNeben das Tango-Programm wird die Band auch eine Vorschau ihres neuen Projekts aufführen: ein musikalisches Portrait von Mercedes Sosa\, die legendäre Sängerin\, die in den 70er Jahren die südamerikanischen Diktatoren zum Zittern brachte. Ihre Lieder sprechen von Ungerechtigkeit\, Freiheit\, Liebe\, und Hoffnung. Sosa wurde „die Stimme der Stimmlosen“ genannt und verkörperte mit ihrer unverwechselbaren Stimme den Ruf nach Demokratie und Gerechtigkeit eines gesamten Kontinents.\n„Möglichst frei von stilistischen Einschränkungen haben wir gemeinsam einen flexiblen musikalischen Bogen zwischen Lateinamerika und Europa gespannt\, die unsere zeitgenössische kulturelle Vielfalt widerspiegelt und die Hoffnung auf eine Zukunft ausdrückt\, in der Unterschiede zu einer Bereicherung werden”. \nhttps://porgy.at/events/10872/ \n
URL:https://harmonikaverband.at/event/paula-barembuem-christian-bakanics-trio-infernal-ein-kreativer-tanz-mit-dem-tango/
LOCATION:Porgy&Bess\, Riemergasse 11\, Wien\, Wien\, 1100
CATEGORIES:Konzerte
END:VEVENT
END:VCALENDAR