BEGIN:VCALENDAR
VERSION:2.0
PRODID:-//HVÖ Harmonikaverband Österreichs - ECPv4.9.7//NONSGML v1.0//EN
CALSCALE:GREGORIAN
METHOD:PUBLISH
X-WR-CALNAME:HVÖ Harmonikaverband Österreichs
X-ORIGINAL-URL:https://harmonikaverband.at
X-WR-CALDESC:Veranstaltungen im HVÖ Harmonikaverband Österreichs
BEGIN:VTIMEZONE
TZID:"Europe/Vienna"
BEGIN:DAYLIGHT
TZOFFSETFROM:+0100
TZOFFSETTO:+0200
TZNAME:CEST
DTSTART:20180325T010000
END:DAYLIGHT
BEGIN:STANDARD
TZOFFSETFROM:+0200
TZOFFSETTO:+0100
TZNAME:CET
DTSTART:20181028T010000
END:STANDARD
END:VTIMEZONE
BEGIN:VEVENT
DTSTART;TZID="Europe/Vienna":20181207T170000
DTEND;TZID="Europe/Vienna":20181207T170000
DTSTAMP:20260421T010143
CREATED:20181119T100009Z
LAST-MODIFIED:20181119T100130Z
UID:1926-1544202000-1544202000@harmonikaverband.at
SUMMARY:Paul Schuberth solo: politische Lieder
DESCRIPTION:\n\n\nPunschstand von SOS-Menschenrechte am OK-Platz\, Linz \n\n\n\n
URL:https://harmonikaverband.at/event/paul-schuberth-solo-politische-lieder/
CATEGORIES:Konzerte
END:VEVENT
END:VCALENDAR