BEGIN:VCALENDAR
VERSION:2.0
PRODID:-//HVÖ Harmonikaverband Österreichs - ECPv4.9.7//NONSGML v1.0//EN
CALSCALE:GREGORIAN
METHOD:PUBLISH
X-WR-CALNAME:HVÖ Harmonikaverband Österreichs
X-ORIGINAL-URL:https://harmonikaverband.at
X-WR-CALDESC:Veranstaltungen im HVÖ Harmonikaverband Österreichs
BEGIN:VTIMEZONE
TZID:"Europe/Vienna"
BEGIN:DAYLIGHT
TZOFFSETFROM:+0100
TZOFFSETTO:+0200
TZNAME:CEST
DTSTART:20230326T010000
END:DAYLIGHT
BEGIN:STANDARD
TZOFFSETFROM:+0200
TZOFFSETTO:+0100
TZNAME:CET
DTSTART:20231029T010000
END:STANDARD
END:VTIMEZONE
BEGIN:VEVENT
DTSTART;TZID="Europe/Vienna":20230626T200000
DTEND;TZID="Europe/Vienna":20230626T200000
DTSTAMP:20260420T201425
CREATED:20211025T150836Z
LAST-MODIFIED:20230601T121041Z
UID:5661-1687809600-1687809600@harmonikaverband.at
SUMMARY:Paul Schuberth und Elisabeth Lapan | „Musik im Konzentrationslager – Kultivierte Barbarei“ >>>Neuer Termin!
DESCRIPTION:\n\nLesung\, Musik\, Vortrag: Musikalische Gewalt in den nationalsozialistischen Konzentrationslagern\n\n\n\n\n  \nAm 1. April um 19.00 Uhr lädt der St. Barbara Friedhof zu einer außergewöhnlichen Veranstaltung mit den Künstler:innen Paul Schuberth und Elisa Lapan in die große Abschiedshalle am Friedhof ein. \n\n\nWer das Stichwort Musik im Konzentrationslager hört\, denkt wohl zuerst an das „reiche“ Kulturleben im Lager Theresienstadt oder an Lagerlieder wie z.B. „Die Moorsoldaten“. Es sind hauptsächlich solche Aspekte dieses Themas bekannt\, bei denen Musik mit Hoffnung und Widerstand verknüpft ist. \nDie Kehrseite davon ist angesprochen\, wenn von „musikalischer Gewalt“ (ein Begriff der Historikerin Juliane Brauer) oder „musikalischem Sadismus“ (Alexander Kulisiewicz\, „Lagersänger“ und Historiker) die Rede ist. \nDiese Begriffe sind keine effektvolle Übertreibung: In den Händen der SS-Mannschaften geriet Musik zum Folterinstrument\, sei es in Form des Zwanges zum Singen\, der Beschallung des Lagergeländes mit nationalistischen Liedern\, der musikalischen Untermalung von Exekutionen oder in Form der Ablenkung von Opfer\, Täter und möglichen Zeugen. \nWie Musik als Mittel des Terrors herhalten musste; wie sie in den Prozess der Vernichtung durch Arbeit eingespannt wurde\, ja ihn sogar reibungsloser funktionieren ließ; darüber will dieser Vortrag Auskunft geben. Zu einem Vortrag solchen Inhalts Musik zu spielen\, ist eine Gratwanderung. Sie darf nicht als Balsam für die Seele nach den furchtbaren historischen Tatsachen gebraucht werden. \nSo spielen Elisa Lapan und Paul Schuberth\, manchmal als Kontrast\, manchmal aber zur Verdeutlichung\, Stücke von u.a. Józef Koffler\, Jean Wiener\, Hanns Eisler\, Paul Abraham … \nDieser Vortrag geht auf einen Vorschlag des Mauthausen Komitee Steyr zurück. \nBeitrag zur musikalischen Gewalt in den Lagern\, veröffentlicht in den Mitteilungen der Alfred Klahr Gesellschaft \nPaul Schuberth (*1994) gehört zu den vielen jungen\, interessierten Akkordeonspielern Österreichs. Seit 2007 macht er regelmäßig die Bühnen Österreichs unsicher\, tourte aber auch durch Europa\, Asien und Afrika. Regelmäßig tritt er u.a. mit den Ensembles „trio akk:zent“\, „Duo Dinovski/Schuberth“\, „Belofour“ und „Duo Vakkordeonioline“ auf\, und kooperiert bei anderen Projekten mit Künstler:innen wie Paul Gulda\, Otto Lechner\, Bratko Bibič\, Thomas Gansch\, Bertl Mütter\, Andrej Prozorov\, Christopher Haritzer\, Jelena Popržan\, … Nebenbei veröffentlicht er als Verfasser von Beiträgen zu kulturpolitischen und gesellschaftlichen Themen in Zeitschriften wie Augustin\, Versorgerin\, konkret\, Phase 2\, Volksstimme. \nElisa Lapan (*1996) ist eine österreichische Saxofonistin\, Dirigentin und Musikpädagogin. Sie schloss ihre Bachelor Studien in klassischem Saxofon mit Schwerpunkt Jazzsaxofon an der ABPU in Linz ab und setzte ihren Master an der Royal Academy Of Music\, Aarhus (Dänemark)\, in Saxofon und Ensembleleitung fort. Elisa ist Mitglied bei SAX OF(F) ON und Orginel² & Saxobefont. Neben reger Konzerttätigkeit und erfolgreichen Teilnahmen bei Wettbewerben (Musica Juventutis\, 3. Platz beim internationalen Louis-Spohr Holzbläserwettbewerb in Kassel) ist sie als Saxofonlehrerin an der Musikschule der Stadt Linz tätig und hält Workshops zum Thema Soundpainting. \nPaul Schuberth: Text\, Vortrag\, Akkordeon\nElisa Lapan: Vortrag\, Saxofon \nDer Eintritt ist frei. Um freiwillige Spenden wird gebeten. \nhttps://www.barbarafriedhof.at/service-info/aktuelles/rueckblick/lesung-musik-vortrag-musikalische-gewalt-in-den-nationalsozialistischen-konzentrationslagern \n\n\n
URL:https://harmonikaverband.at/event/paul-schuberth-musik-im-konzentrationslager-kultivierte-barbarei/
LOCATION:St. Barbara Friedhof\, Friedhofstraße 1\, Linz\, 4020
CATEGORIES:Konzerte
END:VEVENT
END:VCALENDAR