BEGIN:VCALENDAR
VERSION:2.0
PRODID:-//HVÖ Harmonikaverband Österreichs - ECPv4.9.7//NONSGML v1.0//EN
CALSCALE:GREGORIAN
METHOD:PUBLISH
X-WR-CALNAME:HVÖ Harmonikaverband Österreichs
X-ORIGINAL-URL:https://harmonikaverband.at
X-WR-CALDESC:Veranstaltungen im HVÖ Harmonikaverband Österreichs
BEGIN:VTIMEZONE
TZID:"Europe/Vienna"
BEGIN:DAYLIGHT
TZOFFSETFROM:+0100
TZOFFSETTO:+0200
TZNAME:CEST
DTSTART:20190331T010000
END:DAYLIGHT
BEGIN:STANDARD
TZOFFSETFROM:+0200
TZOFFSETTO:+0100
TZNAME:CET
DTSTART:20191027T010000
END:STANDARD
END:VTIMEZONE
BEGIN:VEVENT
DTSTART;TZID="Europe/Vienna":20190516T193000
DTEND;TZID="Europe/Vienna":20190516T193000
DTSTAMP:20260422T071353
CREATED:20190412T083928Z
LAST-MODIFIED:20190412T083928Z
UID:2623-1558035000-1558035000@harmonikaverband.at
SUMMARY:Partytime am Akkordeon Vol.2 Korneuburger Kultur- und Musiktage 2019
DESCRIPTION:
URL:https://harmonikaverband.at/event/partytime-am-akkordeon-vol-2-korneuburger-kultur-und-musiktage-2019/
LOCATION:Rathaus Korneuburg\, Hauptplatz 39\, Korneuburg\, 2100
CATEGORIES:Konzerte
ATTACH;FMTTYPE=image/jpeg:https://harmonikaverband.at/wp-content/uploads/2019/04/LTM_Korneuburg_Kultur_2019.jpg
END:VEVENT
END:VCALENDAR