BEGIN:VCALENDAR
VERSION:2.0
PRODID:-//HVÖ Harmonikaverband Österreichs - ECPv4.9.7//NONSGML v1.0//EN
CALSCALE:GREGORIAN
METHOD:PUBLISH
X-WR-CALNAME:HVÖ Harmonikaverband Österreichs
X-ORIGINAL-URL:https://harmonikaverband.at
X-WR-CALDESC:Veranstaltungen im HVÖ Harmonikaverband Österreichs
BEGIN:VTIMEZONE
TZID:"Europe/Vienna"
BEGIN:DAYLIGHT
TZOFFSETFROM:+0100
TZOFFSETTO:+0200
TZNAME:CEST
DTSTART:20190331T010000
END:DAYLIGHT
BEGIN:STANDARD
TZOFFSETFROM:+0200
TZOFFSETTO:+0100
TZNAME:CET
DTSTART:20191027T010000
END:STANDARD
END:VTIMEZONE
BEGIN:VEVENT
DTSTART;TZID="Europe/Vienna":20190510T183000
DTEND;TZID="Europe/Vienna":20190510T183000
DTSTAMP:20260422T053344
CREATED:20190404T065545Z
LAST-MODIFIED:20190404T112830Z
UID:2576-1557513000-1557513000@harmonikaverband.at
SUMMARY:OrchesterTAnZ  Konzert zum Welttag des Akkordeon 2019
DESCRIPTION:Anläßlich des “World-Accordion-Day 2019” treten die Akkordeonklassen der Musikschule Bisamberg – Leobendorf – Enzersfeld unter der Leitung von Frau Gabriele Hofbauer-Mittermüller im Pfarrsaal Oberrohrbach auf. \n
URL:https://harmonikaverband.at/event/orchestertanz-konzert-zum-welttag-des-akkordeon-2019/
LOCATION:Pfarrsaal Oberrohrbach\, Kirchenweg 7\, Oberrrohrbach\, 2105
CATEGORIES:Konzerte
ATTACH;FMTTYPE=image/jpeg:https://harmonikaverband.at/wp-content/uploads/2019/04/Orchestertanz_2019_Plakat.jpg
ORGANIZER;CN="Regionalmusikschule%20Kreuzenstein":MAILTO:office.musikschule@leobendorf.gv.at
END:VEVENT
END:VCALENDAR