BEGIN:VCALENDAR
VERSION:2.0
PRODID:-//HVÖ Harmonikaverband Österreichs - ECPv4.9.7//NONSGML v1.0//EN
CALSCALE:GREGORIAN
METHOD:PUBLISH
X-WR-CALNAME:HVÖ Harmonikaverband Österreichs
X-ORIGINAL-URL:https://harmonikaverband.at
X-WR-CALDESC:Veranstaltungen im HVÖ Harmonikaverband Österreichs
BEGIN:VTIMEZONE
TZID:"Europe/Vienna"
BEGIN:DAYLIGHT
TZOFFSETFROM:+0100
TZOFFSETTO:+0200
TZNAME:CEST
DTSTART:20190331T010000
END:DAYLIGHT
BEGIN:STANDARD
TZOFFSETFROM:+0200
TZOFFSETTO:+0100
TZNAME:CET
DTSTART:20191027T010000
END:STANDARD
END:VTIMEZONE
BEGIN:VEVENT
DTSTART;VALUE=DATE:20190530
DTEND;VALUE=DATE:20190603
DTSTAMP:20260419T182638
CREATED:20180822T072738Z
LAST-MODIFIED:20190107T083254Z
UID:2191-1559174400-1559519999@harmonikaverband.at
SUMMARY:Österreichische Staatsmeisterschaften  3. Erich Moser Gedenk Wettbewerb
DESCRIPTION:Österreichische Staatsmeisterschaften für Steirische Harmonika\n3. Erich Moser Gedenkwettbewerb\nin St. Peter-Freienstein\n
URL:https://harmonikaverband.at/event/oesterreichische-staatsmeisterschaften-3-erich-moser-gedenk-wettbewerb/
LOCATION:Musikschule St. Peter-Freienstein\, Schulstraße 6\, St- Peter-Freienstein\, 8792\, Österreich
CATEGORIES:Wettbewerbe
ATTACH;FMTTYPE=image/jpeg:https://harmonikaverband.at/wp-content/uploads/2019/01/E.Moser2019_Plakat_A4.jpg
ORGANIZER;CN="Harmonikaverband%20%C3%96sterreichs":MAILTO:office@harmonikaverband.at
END:VEVENT
END:VCALENDAR