BEGIN:VCALENDAR
VERSION:2.0
PRODID:-//HVÖ Harmonikaverband Österreichs - ECPv4.9.7//NONSGML v1.0//EN
CALSCALE:GREGORIAN
METHOD:PUBLISH
X-WR-CALNAME:HVÖ Harmonikaverband Österreichs
X-ORIGINAL-URL:https://harmonikaverband.at
X-WR-CALDESC:Veranstaltungen im HVÖ Harmonikaverband Österreichs
BEGIN:VTIMEZONE
TZID:"Europe/Vienna"
BEGIN:DAYLIGHT
TZOFFSETFROM:+0100
TZOFFSETTO:+0200
TZNAME:CEST
DTSTART:20210328T010000
END:DAYLIGHT
BEGIN:STANDARD
TZOFFSETFROM:+0200
TZOFFSETTO:+0100
TZNAME:CET
DTSTART:20211031T010000
END:STANDARD
END:VTIMEZONE
BEGIN:VEVENT
DTSTART;TZID="Europe/Vienna":20211022T193000
DTEND;TZID="Europe/Vienna":20211022T193000
DTSTAMP:20260423T083737
CREATED:20211021T075602Z
LAST-MODIFIED:20211021T091541Z
UID:5621-1634931000-1634931000@harmonikaverband.at
SUMMARY:Nikola Djoric
DESCRIPTION:Solo Rezital – Kompositionen von Bach und Gubaidulina \n
URL:https://harmonikaverband.at/event/nikola-djoric/
LOCATION:Musikverein Wien\, Musikvereinsplatz 1\, 1010\, Wien\, 1010\, Österreich
CATEGORIES:Konzerte
ATTACH;FMTTYPE=image/jpeg:https://harmonikaverband.at/wp-content/uploads/2021/10/djoric-nikola.jpg
END:VEVENT
END:VCALENDAR