BEGIN:VCALENDAR
VERSION:2.0
PRODID:-//HVÖ Harmonikaverband Österreichs - ECPv4.9.7//NONSGML v1.0//EN
CALSCALE:GREGORIAN
METHOD:PUBLISH
X-WR-CALNAME:HVÖ Harmonikaverband Österreichs
X-ORIGINAL-URL:https://harmonikaverband.at
X-WR-CALDESC:Veranstaltungen im HVÖ Harmonikaverband Österreichs
BEGIN:VTIMEZONE
TZID:"Europe/Vienna"
BEGIN:DAYLIGHT
TZOFFSETFROM:+0100
TZOFFSETTO:+0200
TZNAME:CEST
DTSTART:20230326T010000
END:DAYLIGHT
BEGIN:STANDARD
TZOFFSETFROM:+0200
TZOFFSETTO:+0100
TZNAME:CET
DTSTART:20231029T010000
END:STANDARD
END:VTIMEZONE
BEGIN:VEVENT
DTSTART;TZID="Europe/Vienna":20230215T190000
DTEND;TZID="Europe/Vienna":20230215T210000
DTSTAMP:20260422T233733
CREATED:20230208T122933Z
LAST-MODIFIED:20230208T123517Z
UID:6810-1676487600-1676494800@harmonikaverband.at
SUMMARY:NIKOLA DJORIC zu Gast in Baden!
DESCRIPTION:Der junge Akkordeonist NIKOLA DJORIC hat als Solist und Kammermusiker bereits auf vielen bedeutenden internationalen Konzertpodien gastiert. Seine Passion\, mit dem Klangspektrum des Akkordeons bisher ungekannte Klangfarben im Repertoire von Bach bis Tschaikowsky zu erforschen\, hat ihm zahlreiche Preise eingebracht. \nZu Gast ist er in Baden am Mittwoch\, 15. Februar 2023\, 19 Uhr im Haus der Kunst\, Baden\, Kaiser Franz Ring 7\, mit Kompositionen von Bach\, Couperin\, Scarlatti\, Rameau\, Beethoven\, Schubert\, Liszt\, Piazzolla\, Galliano. Uraufführung der Komposition „Rosarium“ von Gabriele Proy (Kompositionsförderung der Stadt Baden). \nZum Künstler: \n„Poesie\, Kraft\, Leidenschaft\, Hingabe und Kontrolle\, um nur einige zu nennen.“ Klassik Heute – Christof Jetzsche:\nAls Solist und Kammermusiker ist der Akkordeonist Nikola Djorić auf bedeutenden Konzertpodien gestanden\, darunter etwa der Musikverein Wien\, die Philharmonie Köln\, das Konzerthaus Berlin\, der Gasteig München\, das Beethovenfest Bonn und weitere. Mit dem Klangspektrum des Akkordeons erforscht er bisher ungekannte Klangfarben in Repertoire von etwa Bach über Mozart bis hin zu Tschaikowsky\, welches nicht für dieses Instrument geschrieben wurde\, wobei er keine Arrangements anfertigt\, sondern die Treue zum originalen Notentext bewahrt. Seine 2021 erschienene CD gemeinsam mit dem Mannheimer Kammerorchester KKO widmet sich den Cembalokonzerten von J. S. Bach sowie dem Bandoneon Konzert von Astor Piazzolla. Weitere Projekte und Aufnahmen sind in Zusammenarbeit mit dem Label Berlin Classics und NO-TE Produktion entstanden. Für Nikola Djorić nimmt die Kammermusik einen wichtigen Platz ein. Mit dem Cellisten Valentin Erben (Alban Berg Quartett) gründete er das Duo „Ex Equo“ und mit dem Bariton Bo Skovhus schuf er eine besondere Interpretation von Schuberts Winterreise. Wichtige Wettbewerbserfolge seiner Karriere waren u.a. zwei erste Preise in unterschiedlichen Jahren des Fidelio Wettbewerbs des Konservatorium Wien. Nikola Djoric studierte bei Svetlana Kravcenko\, Jovica Djordjevic sowie Grzegorz Stopa am Konservatoriums Wien. \nMehr unter https://web.nikoladjoric.com/ \nKartenpreise: € 20\,– (Vollpreis) / € 15\,– (Schüler\, Studenten\, Personen mit Behindertenausweis). Kartenvorverkauf: Beethovenhaus Baden\, Rathausgasse 10\, 2500 Baden\, Tel. 02252/86800-630\, Email: tickets@beethovenhaus-baden.at sowie Abendkasse. \n
URL:https://harmonikaverband.at/event/nikola-djoric-zu-gast-in-baden/
LOCATION:Haus der Kunst\, Kaiser Franz Ring 7\, Baden\, 2500
CATEGORIES:Konzerte
ATTACH;FMTTYPE=image/png:https://harmonikaverband.at/wp-content/uploads/2021/12/Djoric.png
END:VEVENT
END:VCALENDAR