BEGIN:VCALENDAR
VERSION:2.0
PRODID:-//HVÖ Harmonikaverband Österreichs - ECPv4.9.7//NONSGML v1.0//EN
CALSCALE:GREGORIAN
METHOD:PUBLISH
X-WR-CALNAME:HVÖ Harmonikaverband Österreichs
X-ORIGINAL-URL:https://harmonikaverband.at
X-WR-CALDESC:Veranstaltungen im HVÖ Harmonikaverband Österreichs
BEGIN:VTIMEZONE
TZID:"Europe/Vienna"
BEGIN:DAYLIGHT
TZOFFSETFROM:+0100
TZOFFSETTO:+0200
TZNAME:CEST
DTSTART:20210328T010000
END:DAYLIGHT
BEGIN:STANDARD
TZOFFSETFROM:+0200
TZOFFSETTO:+0100
TZNAME:CET
DTSTART:20211031T010000
END:STANDARD
END:VTIMEZONE
BEGIN:VEVENT
DTSTART;TZID="Europe/Vienna":20211119T193000
DTEND;TZID="Europe/Vienna":20211119T193000
DTSTAMP:20260421T212654
CREATED:20211021T081150Z
LAST-MODIFIED:20211021T091640Z
UID:5629-1637350200-1637350200@harmonikaverband.at
SUMMARY:Nikola Djoric
DESCRIPTION:(Konzertzyklus Maria Radutu) \nMussorgsky – Bilder einer Ausstellung: Akkordeon \nRachmaninov Klavierkonzert Nr. 2: Klavier \n
URL:https://harmonikaverband.at/event/nikola-djoric-3/
LOCATION:MuTh\, Am Augartenspitz 1\, Wien\, 1020
CATEGORIES:Konzerte
ATTACH;FMTTYPE=image/jpeg:https://harmonikaverband.at/wp-content/uploads/2021/10/djoric-nikola.jpg
END:VEVENT
END:VCALENDAR