BEGIN:VCALENDAR
VERSION:2.0
PRODID:-//HVÖ Harmonikaverband Österreichs - ECPv4.9.7//NONSGML v1.0//EN
CALSCALE:GREGORIAN
METHOD:PUBLISH
X-WR-CALNAME:HVÖ Harmonikaverband Österreichs
X-ORIGINAL-URL:https://harmonikaverband.at
X-WR-CALDESC:Veranstaltungen im HVÖ Harmonikaverband Österreichs
BEGIN:VTIMEZONE
TZID:"Europe/Vienna"
BEGIN:DAYLIGHT
TZOFFSETFROM:+0100
TZOFFSETTO:+0200
TZNAME:CEST
DTSTART:20210328T010000
END:DAYLIGHT
BEGIN:STANDARD
TZOFFSETFROM:+0200
TZOFFSETTO:+0100
TZNAME:CET
DTSTART:20211031T010000
END:STANDARD
END:VTIMEZONE
BEGIN:VEVENT
DTSTART;TZID="Europe/Vienna":20211117T123000
DTEND;TZID="Europe/Vienna":20211117T123000
DTSTAMP:20260421T212655
CREATED:20211021T080614Z
LAST-MODIFIED:20211021T091615Z
UID:5624-1637152200-1637152200@harmonikaverband.at
SUMMARY:Nikola Djoric
DESCRIPTION:»Djuna Barnes: Gegen die Natur und andere Werke« \nINTERPRETEN \nMarkus Meyer\, Lesung – Nikola Djorić\, Akkordeon \nPROGRAMM \nMarkus Meyer liest Djuna Barnes’ »Gegen die Natur«\, »Französische Etikette für Ausländer« und »Der Brief\, der niemals abgeschickt wurde« \nModest Mussorgski\, Bilder einer Ausstellung (1874) \nANMERKUNG \nMittagsmenü im Konzerthaus-Restaurant EssDur vor und nach dem Konzert. Reservierung: +43 1 5125550 · restaurant@essdur.wien \n
URL:https://harmonikaverband.at/event/nikola-djoric-2/
LOCATION:Schubertsaal Konzerthaus\, Lothringerstraße 20\, Wien\, 1030
CATEGORIES:Konzerte
ATTACH;FMTTYPE=image/jpeg:https://harmonikaverband.at/wp-content/uploads/2021/10/klangbilder.at_.jpg
END:VEVENT
END:VCALENDAR