BEGIN:VCALENDAR
VERSION:2.0
PRODID:-//HVÖ Harmonikaverband Österreichs - ECPv4.9.7//NONSGML v1.0//EN
CALSCALE:GREGORIAN
METHOD:PUBLISH
X-WR-CALNAME:HVÖ Harmonikaverband Österreichs
X-ORIGINAL-URL:https://harmonikaverband.at
X-WR-CALDESC:Veranstaltungen im HVÖ Harmonikaverband Österreichs
BEGIN:VTIMEZONE
TZID:"Europe/Vienna"
BEGIN:DAYLIGHT
TZOFFSETFROM:+0100
TZOFFSETTO:+0200
TZNAME:CEST
DTSTART:20230326T010000
END:DAYLIGHT
BEGIN:STANDARD
TZOFFSETFROM:+0200
TZOFFSETTO:+0100
TZNAME:CET
DTSTART:20231029T010000
END:STANDARD
END:VTIMEZONE
BEGIN:VEVENT
DTSTART;TZID="Europe/Vienna":20231210T103000
DTEND;TZID="Europe/Vienna":20231210T103000
DTSTAMP:20260421T190143
CREATED:20231107T135406Z
LAST-MODIFIED:20231107T135406Z
UID:7639-1702204200-1702204200@harmonikaverband.at
SUMMARY:Musikalischer Advent mit der Akkordeon Vielharmonie Salzburg
DESCRIPTION: \n
URL:https://harmonikaverband.at/event/musikalischer-advent-mit-der-akkordeon-vielharmonie-salzburg/
LOCATION:Pfarrkirche Salzburg-Leopoldskron-Moos\, Moosstraße 73\, Salzburg\, 5020
ATTACH;FMTTYPE=image/jpeg:https://harmonikaverband.at/wp-content/uploads/2023/03/Flyer-Viel-Harmonie-e1699365218959.jpg
END:VEVENT
END:VCALENDAR