BEGIN:VCALENDAR
VERSION:2.0
PRODID:-//HVÖ Harmonikaverband Österreichs - ECPv4.9.7//NONSGML v1.0//EN
CALSCALE:GREGORIAN
METHOD:PUBLISH
X-WR-CALNAME:HVÖ Harmonikaverband Österreichs
X-ORIGINAL-URL:https://harmonikaverband.at
X-WR-CALDESC:Veranstaltungen im HVÖ Harmonikaverband Österreichs
BEGIN:VTIMEZONE
TZID:"Europe/Vienna"
BEGIN:DAYLIGHT
TZOFFSETFROM:+0100
TZOFFSETTO:+0200
TZNAME:CEST
DTSTART:20190331T010000
END:DAYLIGHT
BEGIN:STANDARD
TZOFFSETFROM:+0200
TZOFFSETTO:+0100
TZNAME:CET
DTSTART:20191027T010000
END:STANDARD
END:VTIMEZONE
BEGIN:VEVENT
DTSTART;TZID="Europe/Vienna":20191124T160000
DTEND;TZID="Europe/Vienna":20191124T160000
DTSTAMP:20260421T103005
CREATED:20190504T144359Z
LAST-MODIFIED:20190505T075408Z
UID:2860-1574611200-1574611200@harmonikaverband.at
SUMMARY:Mostviertel - Favoriten; eine Akkordeoncollage
DESCRIPTION:Bei diesem Konzert begrüßen wir Gäste aus dem Mostviertel und gestalten mit ihnen eine musikalische Collage. Wir -das Orchester des WAF- spielen unter der Leitung von Mag. Christian Höller und freuen uns auf einen gemeinsamen Abend \n
URL:https://harmonikaverband.at/event/mostviertel-favoriten-eine-akkordeoncollage/
LOCATION:Theatersaal am Kurpark Oberlaa\, Fontanastraße 10\, Wien\, 1100
CATEGORIES:Konzerte
ATTACH;FMTTYPE=image/jpeg:https://harmonikaverband.at/wp-content/uploads/2019/05/IMG_2056-Kopie.jpg
ORGANIZER;CN="Wiener%20Akkordeonclub%20Favoriten":MAILTO:info@akkordeonclub.at
END:VEVENT
END:VCALENDAR