BEGIN:VCALENDAR
VERSION:2.0
PRODID:-//HVÖ Harmonikaverband Österreichs - ECPv4.9.7//NONSGML v1.0//EN
CALSCALE:GREGORIAN
METHOD:PUBLISH
X-WR-CALNAME:HVÖ Harmonikaverband Österreichs
X-ORIGINAL-URL:https://harmonikaverband.at
X-WR-CALDESC:Veranstaltungen im HVÖ Harmonikaverband Österreichs
BEGIN:VTIMEZONE
TZID:"Europe/Vienna"
BEGIN:DAYLIGHT
TZOFFSETFROM:+0100
TZOFFSETTO:+0200
TZNAME:CEST
DTSTART:20220327T010000
END:DAYLIGHT
BEGIN:STANDARD
TZOFFSETFROM:+0200
TZOFFSETTO:+0100
TZNAME:CET
DTSTART:20221030T010000
END:STANDARD
END:VTIMEZONE
BEGIN:VEVENT
DTSTART;TZID="Europe/Vienna":20220617T090000
DTEND;TZID="Europe/Vienna":20220617T170000
DTSTAMP:20260421T195121
CREATED:20210922T160719Z
LAST-MODIFIED:20210927T054156Z
UID:5332-1655456400-1655485200@harmonikaverband.at
SUMMARY:"Moderne Stilistik auf der Steirischen Harmonika"
DESCRIPTION:Workshop mit dem Weltmeister\nMichael Rettig\n  \n\n  \n \nDer HVÖ veranstaltet im Rahmen des “Tag der Harmonika 2022”  in Perg diesen Workshop für alle interessierten Harmonikaspieler. Die Teilnahme am Kurs wird vom Harmonikaverband im Rahmen des Wettbewerbes gesponsert und ist somit kostenlos. Lediglich für das zur Verfügung gestellte Notenmaterial wird ein \ngeringer Unkostenbeitrag eingehoben. \nGeleitet wird der Kurs von Michael Rettig\, dem zweifachen Weltmeister auf der Harmonika aus Deutschland. Er richtet sich an alle ambitionierten Spieler der Steirischen Harmonika\, die einen neuen Zugang zur modernen Stilistik und neuen Spielweisen suchen. \nIn 3 Einheiten zu je 2 Stunden haben Sie Gelegenheit\, mit dem Weltmeister zu arbeiten. Mitzubringen sind das eigene Instrument und Enthusiasmus. \nANMELDUNG: \nDie Anmeldung zum Workshop erfolgt per Email an office@harmonikaverband.at\nIm Betreff geben Sie bitte “Anmeldung zum Workshop Michael Rettig” an\nVergessen Sie nicht\, uns Ihren Namen und Telefonnummer bekannt zu geben\, damit wir Sie kontaktieren können.\nDie Anzahl der Teilnehmer ist begrenzt. \nANMELDESCHLUSS:   \nEnde Mai 2022 !  \n
URL:https://harmonikaverband.at/event/moderne-stilistik-auf-der-steirischen-harmonika/
LOCATION:Neue Mittelschule Perg\, Linzerstrasse 18\, Perg\, 4320\, Österreich
CATEGORIES:Kurse / Workshops
ATTACH;FMTTYPE=image/jpeg:https://harmonikaverband.at/wp-content/uploads/2021/09/IMG_7745-e1632326497671.jpg
ORGANIZER;CN="Harmonikaverband%20%C3%96sterreichs":MAILTO:office@harmonikaverband.at
END:VEVENT
END:VCALENDAR