BEGIN:VCALENDAR
VERSION:2.0
PRODID:-//HVÖ Harmonikaverband Österreichs - ECPv4.9.7//NONSGML v1.0//EN
CALSCALE:GREGORIAN
METHOD:PUBLISH
X-WR-CALNAME:HVÖ Harmonikaverband Österreichs
X-ORIGINAL-URL:https://harmonikaverband.at
X-WR-CALDESC:Veranstaltungen im HVÖ Harmonikaverband Österreichs
BEGIN:VTIMEZONE
TZID:"Europe/Vienna"
BEGIN:DAYLIGHT
TZOFFSETFROM:+0100
TZOFFSETTO:+0200
TZNAME:CEST
DTSTART:20240331T010000
END:DAYLIGHT
BEGIN:STANDARD
TZOFFSETFROM:+0200
TZOFFSETTO:+0100
TZNAME:CET
DTSTART:20241027T010000
END:STANDARD
END:VTIMEZONE
BEGIN:VEVENT
DTSTART;TZID="Europe/Vienna":20240608T183000
DTEND;TZID="Europe/Vienna":20240608T183000
DTSTAMP:20260421T115215
CREATED:20240516T071056Z
LAST-MODIFIED:20240602T065252Z
UID:8450-1717871400-1717871400@harmonikaverband.at
SUMMARY:Lieblingsmelodien aus 20 Jahren Swinging Accordians
DESCRIPTION:Jahreskonzert der Swinging Accordians mit einigen ihrer Lieblingsstücken aus 20 Jahren. \n
URL:https://harmonikaverband.at/event/lieblingsmelodien-aus-20-jahren-swinging-accordians/
LOCATION:Bürgerzentrum Böheimkirchen\, Marktplatz 2\, Böheimkirchen\, 3071
CATEGORIES:Konzerte
ATTACH;FMTTYPE=image/jpeg:https://harmonikaverband.at/wp-content/uploads/2024/05/Konzert-Swinging-002.jpg
END:VEVENT
END:VCALENDAR