BEGIN:VCALENDAR
VERSION:2.0
PRODID:-//HVÖ Harmonikaverband Österreichs - ECPv4.9.7//NONSGML v1.0//EN
CALSCALE:GREGORIAN
METHOD:PUBLISH
X-WR-CALNAME:HVÖ Harmonikaverband Österreichs
X-ORIGINAL-URL:https://harmonikaverband.at
X-WR-CALDESC:Veranstaltungen im HVÖ Harmonikaverband Österreichs
BEGIN:VTIMEZONE
TZID:"Europe/Vienna"
BEGIN:DAYLIGHT
TZOFFSETFROM:+0100
TZOFFSETTO:+0200
TZNAME:CEST
DTSTART:20190331T010000
END:DAYLIGHT
BEGIN:STANDARD
TZOFFSETFROM:+0200
TZOFFSETTO:+0100
TZNAME:CET
DTSTART:20191027T010000
END:STANDARD
END:VTIMEZONE
BEGIN:VEVENT
DTSTART;TZID="Europe/Vienna":20190407T160000
DTEND;TZID="Europe/Vienna":20190407T160000
DTSTAMP:20260422T053355
CREATED:20190305T072719Z
LAST-MODIFIED:20190318T091836Z
UID:2455-1554652800-1554652800@harmonikaverband.at
SUMMARY:Lei(n)wand Konzert des Akkordeonvereins "La Tastiera Magica"
DESCRIPTION:Von Baloo bis Daniel Craig\, von König der Löwen bis Captain Jack Sparrow\, von Ray Charles bis Ennio Morricone … Es ist immer wieder faszinierend\, welch breites Spektrum an Stimmungen das 14-köpfige Akkordeon-Orchester La Tastiera Magica bei seinen Konzerten entstehen lässt. Unter der musikalischen Leitung von Gabriele Hofbauer-Mittermüller können sich die ZuhörerInnen bei diesem Konzert in den Wilden Westen zurückversetzen lassen\, können Umarmungen mit Kevin Costner oder Whitney Houston erträumen oder mit dem Schiff fremde Inseln erkunden. \n
URL:https://harmonikaverband.at/event/leinwand-konzert-des-akkordeonvereins-la-tastiera-magica/
LOCATION:Festsaal Bisamberg\, Schlossgasse 1\, Bisamberg\, 2102\, Österreich
ATTACH;FMTTYPE=image/jpeg:https://harmonikaverband.at/wp-content/uploads/2019/03/LTM-Konzert-Leinwand.jpg
ORGANIZER;CN="Akkordeonverein%20La%20Tastiera%20Magica":MAILTO:tickets@latastieramagica.at
END:VEVENT
END:VCALENDAR