BEGIN:VCALENDAR
VERSION:2.0
PRODID:-//HVÖ Harmonikaverband Österreichs - ECPv4.9.7//NONSGML v1.0//EN
CALSCALE:GREGORIAN
METHOD:PUBLISH
X-WR-CALNAME:HVÖ Harmonikaverband Österreichs
X-ORIGINAL-URL:https://harmonikaverband.at
X-WR-CALDESC:Veranstaltungen im HVÖ Harmonikaverband Österreichs
BEGIN:VTIMEZONE
TZID:"Europe/Vienna"
BEGIN:DAYLIGHT
TZOFFSETFROM:+0100
TZOFFSETTO:+0200
TZNAME:CEST
DTSTART:20190331T010000
END:DAYLIGHT
BEGIN:STANDARD
TZOFFSETFROM:+0200
TZOFFSETTO:+0100
TZNAME:CET
DTSTART:20191027T010000
END:STANDARD
END:VTIMEZONE
BEGIN:VEVENT
DTSTART;TZID="Europe/Vienna":20190630T190000
DTEND;TZID="Europe/Vienna":20190630T210000
DTSTAMP:20260422T053058
CREATED:20190623T123024Z
LAST-MODIFIED:20190623T123024Z
UID:2995-1561921200-1561928400@harmonikaverband.at
SUMMARY:LATIN CONCERT - The Reeds and Strings
DESCRIPTION:Isabella Krapf ( Chromatische Mundharmonika) \nChristian Höller ( Akkordeon) \nKároly Berki ( Gitarre) \nAntal Bakro ( Percussion) \n  \nSaal der Beethovenmusikschule \nBabenbergergasse 20\, 2340 Mödling \nKarten 15€ \, erm 12€ \n
URL:https://harmonikaverband.at/event/latin-concert-the-reeds-and-strings/
LOCATION:Beethoven Musikschule Mödling\, Babenbergergasse 20\, Mödling\, 2340
CATEGORIES:Konzerte
ATTACH;FMTTYPE=image/jpeg:https://harmonikaverband.at/wp-content/uploads/2019/06/Latinmoedling-page-0011.jpg
END:VEVENT
END:VCALENDAR