BEGIN:VCALENDAR
VERSION:2.0
PRODID:-//HVÖ Harmonikaverband Österreichs - ECPv4.9.7//NONSGML v1.0//EN
CALSCALE:GREGORIAN
METHOD:PUBLISH
X-WR-CALNAME:HVÖ Harmonikaverband Österreichs
X-ORIGINAL-URL:https://harmonikaverband.at
X-WR-CALDESC:Veranstaltungen im HVÖ Harmonikaverband Österreichs
BEGIN:VTIMEZONE
TZID:"Europe/Vienna"
BEGIN:DAYLIGHT
TZOFFSETFROM:+0100
TZOFFSETTO:+0200
TZNAME:CEST
DTSTART:20190331T010000
END:DAYLIGHT
BEGIN:STANDARD
TZOFFSETFROM:+0200
TZOFFSETTO:+0100
TZNAME:CET
DTSTART:20191027T010000
END:STANDARD
END:VTIMEZONE
BEGIN:VEVENT
DTSTART;TZID="Europe/Vienna":20190123T200000
DTEND;TZID="Europe/Vienna":20190123T213000
DTSTAMP:20260420T140148
CREATED:20181216T083826Z
LAST-MODIFIED:20181216T084944Z
UID:1986-1548273600-1548279000@harmonikaverband.at
SUMMARY:Konzertabend Heinrich Biegenzahn
DESCRIPTION:Heinrich Biegenzahn(Akkordeon\,Klarinette) – Mariam Vardzelashvili (Klavier)\nProgramm:\nH. Biegenzahn: Meditation Nr.2\, op.68 \nG.Regondi: Zwei Konzertetüden \nW.Iwanow: Utuschka Lugowaja \n—Pause— \nC. Saint – Saens: Klarinettensonate \n
URL:https://harmonikaverband.at/event/konzertabend-heinrich-biegenzahn-9/
LOCATION:Klaviergalerie Wien\, Kaiserstraße 10\, Wien\, Wien\, 1070\, Österreich
CATEGORIES:Konzerte
ORGANIZER;CN="Mag.%20Heinrich%20Biegenzahn":MAILTO:hbiegen@hotmail.com
END:VEVENT
END:VCALENDAR