BEGIN:VCALENDAR
VERSION:2.0
PRODID:-//HVÖ Harmonikaverband Österreichs - ECPv4.9.7//NONSGML v1.0//EN
CALSCALE:GREGORIAN
METHOD:PUBLISH
X-WR-CALNAME:HVÖ Harmonikaverband Österreichs
X-ORIGINAL-URL:https://harmonikaverband.at
X-WR-CALDESC:Veranstaltungen im HVÖ Harmonikaverband Österreichs
BEGIN:VTIMEZONE
TZID:"Europe/Vienna"
BEGIN:DAYLIGHT
TZOFFSETFROM:+0100
TZOFFSETTO:+0200
TZNAME:CEST
DTSTART:20190331T010000
END:DAYLIGHT
BEGIN:STANDARD
TZOFFSETFROM:+0200
TZOFFSETTO:+0100
TZNAME:CET
DTSTART:20191027T010000
END:STANDARD
END:VTIMEZONE
BEGIN:VEVENT
DTSTART;TZID="Europe/Vienna":20190412T200000
DTEND;TZID="Europe/Vienna":20190412T214500
DTSTAMP:20260422T053036
CREATED:20190318T124546Z
LAST-MODIFIED:20190318T124642Z
UID:2467-1555099200-1555105500@harmonikaverband.at
SUMMARY:Konzertabend Heinrich Biegenzahn
DESCRIPTION:\n\n\nHeinrich Biegenzahn (Akkordeon\, Klarinette) – Wiktoria Kaminski (Klavier)\nProgramm:\nWl. Solotarjow: Sonate Nr.3 für Akkorde—Pause— \nM.Mussorgsky: Bilder einer Ausstellung\n(Klavier) \nC. Saints – Saens: Klarinettensonate \nJ. Matitia: Crazy Rag\nKlaviergalerie\, Kaisersaal\, Kaiserstraße 10\, 1070 Wien (nähe Mariahilfer Straße/Westbahnhof oder Zieglerstraße – U3)\,\nKarten zu 15.-Euro an der Abendkasse(Saaleingang)sowie online:\nwww.oeticket.com\, (Suche:Biegenzahn)\n\n\n\n  \n
URL:https://harmonikaverband.at/event/konzertabend-heinrich-biegenzahn-6/
LOCATION:Klaviergalerie Wien\, Kaiserstraße 10\, Wien\, Wien\, 1070\, Österreich
CATEGORIES:Konzerte
ATTACH;FMTTYPE=image/jpeg:https://harmonikaverband.at/wp-content/uploads/2019/03/kam_bieg.jpg
ORGANIZER;CN="Mag.%20Heinrich%20Biegenzahn":MAILTO:hbiegen@hotmail.com
END:VEVENT
END:VCALENDAR