BEGIN:VCALENDAR
VERSION:2.0
PRODID:-//HVÖ Harmonikaverband Österreichs - ECPv4.9.7//NONSGML v1.0//EN
CALSCALE:GREGORIAN
METHOD:PUBLISH
X-WR-CALNAME:HVÖ Harmonikaverband Österreichs
X-ORIGINAL-URL:https://harmonikaverband.at
X-WR-CALDESC:Veranstaltungen im HVÖ Harmonikaverband Österreichs
BEGIN:VTIMEZONE
TZID:"Europe/Vienna"
BEGIN:DAYLIGHT
TZOFFSETFROM:+0100
TZOFFSETTO:+0200
TZNAME:CEST
DTSTART:20190331T010000
END:DAYLIGHT
BEGIN:STANDARD
TZOFFSETFROM:+0200
TZOFFSETTO:+0100
TZNAME:CET
DTSTART:20191027T010000
END:STANDARD
END:VTIMEZONE
BEGIN:VEVENT
DTSTART;TZID="Europe/Vienna":20190111T200000
DTEND;TZID="Europe/Vienna":20190111T200000
DTSTAMP:20260420T174419
CREATED:20180909T115231Z
LAST-MODIFIED:20181024T084556Z
UID:1521-1547236800-1547236800@harmonikaverband.at
SUMMARY:Konzertabend Heinrich Biegenzahn
DESCRIPTION:Heinrich Biegenzahn (Akkordeon\, Klarinette) – Isabell Schneider (Violine)\nProgramm:\nA.Kusyakov: Sonate Nr.1 für Akkordeon\nA.Piazzolla: Leijia´s Game  –  Flora´s Game\nW.A.Mozart: Allegretto grazioso\nH.Biegenzahn: Toccata Nr.2 (2019)\, op.65 für Akkordeon \n—  Pause  —\nH.Biegenzahn: Duo für Violine und Akkordeon\, op.63\nOn Day – In The Night für clarinet \n
URL:https://harmonikaverband.at/event/konzertabend-heinrich-biegenzahn-3/
LOCATION:Musikverein Wien\, Steinerner Saal\, Musikvereinsplatz 1\, Wien\, 1010\, Österreich
CATEGORIES:Konzerte
ORGANIZER;CN="Mag.%20Heinrich%20Biegenzahn":MAILTO:hbiegen@hotmail.com
END:VEVENT
END:VCALENDAR