BEGIN:VCALENDAR
VERSION:2.0
PRODID:-//HVÖ Harmonikaverband Österreichs - ECPv4.9.7//NONSGML v1.0//EN
CALSCALE:GREGORIAN
METHOD:PUBLISH
X-WR-CALNAME:HVÖ Harmonikaverband Österreichs
X-ORIGINAL-URL:https://harmonikaverband.at
X-WR-CALDESC:Veranstaltungen im HVÖ Harmonikaverband Österreichs
BEGIN:VTIMEZONE
TZID:"Europe/Vienna"
BEGIN:DAYLIGHT
TZOFFSETFROM:+0100
TZOFFSETTO:+0200
TZNAME:CEST
DTSTART:20190331T010000
END:DAYLIGHT
BEGIN:STANDARD
TZOFFSETFROM:+0200
TZOFFSETTO:+0100
TZNAME:CET
DTSTART:20191027T010000
END:STANDARD
END:VTIMEZONE
BEGIN:VEVENT
DTSTART;TZID="Europe/Vienna":20190126T193000
DTEND;TZID="Europe/Vienna":20190126T193000
DTSTAMP:20260420T121100
CREATED:20181123T175835Z
LAST-MODIFIED:20190123T114155Z
UID:1941-1548531000-1548531000@harmonikaverband.at
SUMMARY:KONZERT Duo [:Klak:] in Bisamberg
DESCRIPTION:Eintrittskarten erhältlich bei der Gemeinde Bisamberg unter www.bisamberg.at\noder bei der La Tastiera Magica-Tickethotline \n
URL:https://harmonikaverband.at/event/konzert-duo-klak/
LOCATION:Festsaal Bisamberg\, Schlossgasse 1\, Bisamberg\, 2102\, Österreich
CATEGORIES:Konzerte
ATTACH;FMTTYPE=image/jpeg:https://harmonikaverband.at/wp-content/uploads/2018/11/Cool_Konzert_Plakat_2019.jpg
ORGANIZER;CN="Akkordeonverein%20La%20Tastiera%20Magica":MAILTO:tickets@latastieramagica.at
END:VEVENT
END:VCALENDAR