BEGIN:VCALENDAR
VERSION:2.0
PRODID:-//HVÖ Harmonikaverband Österreichs - ECPv4.9.7//NONSGML v1.0//EN
CALSCALE:GREGORIAN
METHOD:PUBLISH
X-WR-CALNAME:HVÖ Harmonikaverband Österreichs
X-ORIGINAL-URL:https://harmonikaverband.at
X-WR-CALDESC:Veranstaltungen im HVÖ Harmonikaverband Österreichs
BEGIN:VTIMEZONE
TZID:"Europe/Vienna"
BEGIN:DAYLIGHT
TZOFFSETFROM:+0100
TZOFFSETTO:+0200
TZNAME:CEST
DTSTART:20230326T010000
END:DAYLIGHT
BEGIN:STANDARD
TZOFFSETFROM:+0200
TZOFFSETTO:+0100
TZNAME:CET
DTSTART:20231029T010000
END:STANDARD
END:VTIMEZONE
BEGIN:VEVENT
DTSTART;TZID="Europe/Vienna":20230714T180000
DTEND;TZID="Europe/Vienna":20230714T180000
DTSTAMP:20260421T021549
CREATED:20230601T105607Z
LAST-MODIFIED:20230601T105607Z
UID:7261-1689357600-1689357600@harmonikaverband.at
SUMMARY:Klaus Paier & Asja Valcic
DESCRIPTION:
URL:https://harmonikaverband.at/event/klaus-paier-asja-valcic/
LOCATION:Stadtgalerie am Minoritenplatz\, Minoritenplatz\, Wolfsberg\, 9400
CATEGORIES:Konzerte
ATTACH;FMTTYPE=image/jpeg:https://harmonikaverband.at/wp-content/uploads/2022/08/valcicpaier-web.jpg
END:VEVENT
END:VCALENDAR