BEGIN:VCALENDAR
VERSION:2.0
PRODID:-//HVÖ Harmonikaverband Österreichs - ECPv4.9.7//NONSGML v1.0//EN
CALSCALE:GREGORIAN
METHOD:PUBLISH
X-WR-CALNAME:HVÖ Harmonikaverband Österreichs
X-ORIGINAL-URL:https://harmonikaverband.at
X-WR-CALDESC:Veranstaltungen im HVÖ Harmonikaverband Österreichs
BEGIN:VTIMEZONE
TZID:"Europe/Vienna"
BEGIN:DAYLIGHT
TZOFFSETFROM:+0100
TZOFFSETTO:+0200
TZNAME:CEST
DTSTART:20230326T010000
END:DAYLIGHT
BEGIN:STANDARD
TZOFFSETFROM:+0200
TZOFFSETTO:+0100
TZNAME:CET
DTSTART:20231029T010000
END:STANDARD
END:VTIMEZONE
BEGIN:VEVENT
DTSTART;TZID="Europe/Vienna":20230527T190000
DTEND;TZID="Europe/Vienna":20230527T210000
DTSTAMP:20260421T163509
CREATED:20230512T080652Z
LAST-MODIFIED:20230512T080652Z
UID:7162-1685214000-1685221200@harmonikaverband.at
SUMMARY:Klaus Paier & Asja Valcic >>> Christine Lavant für Werner Berg
DESCRIPTION:https://www.wernerberg.museum/de/ausstellungen/veranstaltungen-2023/christine-lavant-fuer-werner-berg-liebesgedichte.html \n  \n\n\nKartenreservierung:Werner Berg Museum Bleiburg/Pliberk10. Oktober Platz 1\, 9150 Bleiburg04235 2110-27 \nbleiburg.museum@ktn.gde.atwww.wernerberg.museum \n\n\n \n
URL:https://harmonikaverband.at/event/klaus-paier-asja-valcic-christine-lavant-fuer-werner-berg/
CATEGORIES:Konzerte
ATTACH;FMTTYPE=image/jpeg:https://harmonikaverband.at/wp-content/uploads/2022/08/valcicpaier-web.jpg
END:VEVENT
END:VCALENDAR