BEGIN:VCALENDAR
VERSION:2.0
PRODID:-//HVÖ Harmonikaverband Österreichs - ECPv4.9.7//NONSGML v1.0//EN
CALSCALE:GREGORIAN
METHOD:PUBLISH
X-WR-CALNAME:HVÖ Harmonikaverband Österreichs
X-ORIGINAL-URL:https://harmonikaverband.at
X-WR-CALDESC:Veranstaltungen im HVÖ Harmonikaverband Österreichs
BEGIN:VTIMEZONE
TZID:"Europe/Vienna"
BEGIN:DAYLIGHT
TZOFFSETFROM:+0100
TZOFFSETTO:+0200
TZNAME:CEST
DTSTART:20240331T010000
END:DAYLIGHT
BEGIN:STANDARD
TZOFFSETFROM:+0200
TZOFFSETTO:+0100
TZNAME:CET
DTSTART:20241027T010000
END:STANDARD
END:VTIMEZONE
BEGIN:VEVENT
DTSTART;TZID="Europe/Vienna":20240220T200000
DTEND;TZID="Europe/Vienna":20240220T200000
DTSTAMP:20260421T131803
CREATED:20240208T095556Z
LAST-MODIFIED:20240208T095556Z
UID:8058-1708459200-1708459200@harmonikaverband.at
SUMMARY:KLANGILLUSTRATIONEN unter Mitwirkung von Paul Schuberth und Tomáš Novák
DESCRIPTION:https://www.brick-15.at/event-details/klangillustrationen-konzert-und-ausstellung \n
URL:https://harmonikaverband.at/event/klangillustrationen-unter-mitwirkung-von-paul-schuberth-und-tomas-novak/
LOCATION:Brick-15\, Turnhalle\, Herklotzgasse 21\, 1150
CATEGORIES:Konzerte
ATTACH;FMTTYPE=image/png:https://harmonikaverband.at/wp-content/uploads/2024/02/Schuberth-Klangillustrationen.png
END:VEVENT
END:VCALENDAR