BEGIN:VCALENDAR
VERSION:2.0
PRODID:-//HVÖ Harmonikaverband Österreichs - ECPv4.9.7//NONSGML v1.0//EN
CALSCALE:GREGORIAN
METHOD:PUBLISH
X-WR-CALNAME:HVÖ Harmonikaverband Österreichs
X-ORIGINAL-URL:https://harmonikaverband.at
X-WR-CALDESC:Veranstaltungen im HVÖ Harmonikaverband Österreichs
BEGIN:VTIMEZONE
TZID:"Europe/Vienna"
BEGIN:DAYLIGHT
TZOFFSETFROM:+0100
TZOFFSETTO:+0200
TZNAME:CEST
DTSTART:20240331T010000
END:DAYLIGHT
BEGIN:STANDARD
TZOFFSETFROM:+0200
TZOFFSETTO:+0100
TZNAME:CET
DTSTART:20241027T010000
END:STANDARD
END:VTIMEZONE
BEGIN:VEVENT
DTSTART;TZID="Europe/Vienna":20241012T183000
DTEND;TZID="Europe/Vienna":20241012T183000
DTSTAMP:20260421T012332
CREATED:20240120T154613Z
LAST-MODIFIED:20240909T153934Z
UID:7939-1728757800-1728757800@harmonikaverband.at
SUMMARY:Jubiläumskonzert 70 Jahre HVÖSt. Peter-Freienstein
DESCRIPTION:Das Jubiläumsjahr findet seinen wahrlich würdigen Abschluss mit dem 3. großen 70Jahre-Festkonzert in St. Peter-Freienstein in der Steiermark\, bei dem die Steirische Harmonika – wie sie im HVÖ kultiviert wird – im Vordergrund stehen wird. Wie auch bei den vorangegangenen Konzerten wird aber auch das Akkordeon\, das Bandoneon und die Mundharmonika wieder sehr prominent vertreten sein. Freuen sie sich deshalb schon jetzt auf dieses Ereignis und reservieren Sie rechtzeitig Ihre Konzertkarten. \n  \n \n  \nViele junge\, aber auch erfahrene Virtuosen auf diesen Instrumenten\, werden für einen unvergesslichen Harmonikamix und Konzert-Genuss sorgen. Versäumen Sie nicht diese einzigartige Möglichkeit\, auch für Sie nicht so bekannte Instrumente auf hohem Niveau zu erleben! \nKartenverkauf:\n \nKonzertkarten erhalten Sie im Gemeindeamt St. Peter Freienstein unter der Telefonnummer 03842 2292 225 sowie bei Herrn Prof. Gottfried Hubmann unter 0664 / 154 47 27\nVorverkauf: € 12\,–\nAbendkassa € 15\,– \n\n \n
URL:https://harmonikaverband.at/event/jubilaeumskonzert-des-hvoe/
LOCATION:VS Turnsaal St.Peter-Freienstein\, Schulstraße 6\, 8792
CATEGORIES:Konzerte
ATTACH;FMTTYPE=image/jpeg:https://harmonikaverband.at/wp-content/uploads/2024/08/HVOe_70_Konzert_top.jpg
ORGANIZER;CN="Harmonikaverband%20%C3%96sterreichs":MAILTO:office@harmonikaverband.at
END:VEVENT
END:VCALENDAR