BEGIN:VCALENDAR
VERSION:2.0
PRODID:-//HVÖ Harmonikaverband Österreichs - ECPv4.9.7//NONSGML v1.0//EN
CALSCALE:GREGORIAN
METHOD:PUBLISH
X-WR-CALNAME:HVÖ Harmonikaverband Österreichs
X-ORIGINAL-URL:https://harmonikaverband.at
X-WR-CALDESC:Veranstaltungen im HVÖ Harmonikaverband Österreichs
BEGIN:VTIMEZONE
TZID:"Europe/Vienna"
BEGIN:DAYLIGHT
TZOFFSETFROM:+0100
TZOFFSETTO:+0200
TZNAME:CEST
DTSTART:20200329T010000
END:DAYLIGHT
BEGIN:STANDARD
TZOFFSETFROM:+0200
TZOFFSETTO:+0100
TZNAME:CET
DTSTART:20201025T010000
END:STANDARD
END:VTIMEZONE
BEGIN:VEVENT
DTSTART;VALUE=DATE:20201011
DTEND;VALUE=DATE:20201012
DTSTAMP:20260422T003217
CREATED:20200407T070348Z
LAST-MODIFIED:20200924T091724Z
UID:3872-1602374400-1602460799@harmonikaverband.at
SUMMARY:Herbstkonzert 2020 "Wiener Melange"
DESCRIPTION:Dieses besondere Konzert steht unter dem Motto “Wiener Melange“\nKommen Sie\, und lassen Sie sich mit beliebten Melodien aus und rund um Wien verwöhnen.\n \n  \nLiebe Freunde von La Tastiera Magica! \nDa unser Frühjahrskonzert*) auf Grund der Corona Krise nicht stattfinden konnte\, wird es nun zum Herbstkonzert.\nWeiters haben wir uns aufgrund der derzeit geltenden Vorschriften entschlossen das Konzert zweimal zu spielen\num so die nötigen Abstände im Zuschauerraum einhalten zu können. \n1. Auftritt  um 15:00 Uhr\n2. Auftritt um 18:00 Uhr\nDas Akkordeon Orchester “La Tastiera Magica” unter der Leitung von Frau Gabriele Mittermüller-Hofbauer freut sich schon auf Ihren Besuch. \n*) Bereits für den 29.3.2020 gekaufte oder reservierte Karten behalten Ihre Gültigkeit für diesen Ersatztermin!  Bitte unbedingt telefonisch bestätigen lassen. \n
URL:https://harmonikaverband.at/event/herbstkonzert-2020-wiener-melange/
LOCATION:Festsaal Bisamberg\, Schlossgasse 1\, Bisamberg\, 2102\, Österreich
CATEGORIES:Konzerte
ATTACH;FMTTYPE=image/jpeg:https://harmonikaverband.at/wp-content/uploads/2020/09/LTM_Frühling_2020_Oktober.jpg
ORGANIZER;CN="Akkordeonverein%20La%20Tastiera%20Magica":MAILTO:tickets@latastieramagica.at
END:VEVENT
END:VCALENDAR