BEGIN:VCALENDAR
VERSION:2.0
PRODID:-//HVÖ Harmonikaverband Österreichs - ECPv4.9.7//NONSGML v1.0//EN
CALSCALE:GREGORIAN
METHOD:PUBLISH
X-WR-CALNAME:HVÖ Harmonikaverband Österreichs
X-ORIGINAL-URL:https://harmonikaverband.at
X-WR-CALDESC:Veranstaltungen im HVÖ Harmonikaverband Österreichs
BEGIN:VTIMEZONE
TZID:"Europe/Vienna"
BEGIN:DAYLIGHT
TZOFFSETFROM:+0100
TZOFFSETTO:+0200
TZNAME:CEST
DTSTART:20220327T010000
END:DAYLIGHT
BEGIN:STANDARD
TZOFFSETFROM:+0200
TZOFFSETTO:+0100
TZNAME:CET
DTSTART:20221030T010000
END:STANDARD
END:VTIMEZONE
BEGIN:VEVENT
DTSTART;TZID="Europe/Vienna":20220621T200000
DTEND;TZID="Europe/Vienna":20220621T200000
DTSTAMP:20260421T195309
CREATED:20220307T122015Z
LAST-MODIFIED:20220307T123420Z
UID:6003-1655841600-1655841600@harmonikaverband.at
SUMMARY:Ghenadie Rotari spielt Matthew Shlomowitz
DESCRIPTION:Matthew Shlomowitz: Freedom for notes and men\, for speaking accordionist (2018) >>>> \n  \nEbenfalls im Programm: \nAndreas Borregaard spielt Simon Steen-Andersen Asthma\, for accordion and video (2017) / Jennifer Walshe SELF-CARE\, for accordion\, tape recorder and film (2017) \n  \nhttps://www.openmusic.at/programm/2022/21062022 \n
URL:https://harmonikaverband.at/event/ghenadie-rotari-spielt-matthew-shlomowitz/
LOCATION:esc medien kunst labor\, Bürgergasse 5\, Graz\, 8010
CATEGORIES:Konzerte
END:VEVENT
END:VCALENDAR