BEGIN:VCALENDAR
VERSION:2.0
PRODID:-//HVÖ Harmonikaverband Österreichs - ECPv4.9.7//NONSGML v1.0//EN
CALSCALE:GREGORIAN
METHOD:PUBLISH
X-WR-CALNAME:HVÖ Harmonikaverband Österreichs
X-ORIGINAL-URL:https://harmonikaverband.at
X-WR-CALDESC:Veranstaltungen im HVÖ Harmonikaverband Österreichs
BEGIN:VTIMEZONE
TZID:"Europe/Vienna"
BEGIN:DAYLIGHT
TZOFFSETFROM:+0100
TZOFFSETTO:+0200
TZNAME:CEST
DTSTART:20230326T010000
END:DAYLIGHT
BEGIN:STANDARD
TZOFFSETFROM:+0200
TZOFFSETTO:+0100
TZNAME:CET
DTSTART:20231029T010000
END:STANDARD
END:VTIMEZONE
BEGIN:VEVENT
DTSTART;TZID="Europe/Vienna":20230516T190000
DTEND;TZID="Europe/Vienna":20230516T210000
DTSTAMP:20260421T163300
CREATED:20230116T104950Z
LAST-MODIFIED:20230116T104950Z
UID:6777-1684263600-1684270800@harmonikaverband.at
SUMMARY:GEBURTSTAGSKONZERT des Wiener Akkordeon Ensemble
DESCRIPTION:Zum 80. Geburtstag seiner Leiterin\, Prof. GERTRUDE KISSER\, ladet das Ensemble alle Freunde und Interessenten in den Festsaal des Bezirksamtes herzlich ein! \n
URL:https://harmonikaverband.at/event/geburtstagskonzert-des-wiener-akkordeon-ensemble/
LOCATION:Bezirksamt Rudolfsheim-Fünfhaus\, Rosinagasse 4\, Wien\, 1150
CATEGORIES:Konzerte
ATTACH;FMTTYPE=image/png:https://harmonikaverband.at/wp-content/uploads/2022/12/WAE.png
END:VEVENT
END:VCALENDAR