BEGIN:VCALENDAR
VERSION:2.0
PRODID:-//HVÖ Harmonikaverband Österreichs - ECPv4.9.7//NONSGML v1.0//EN
CALSCALE:GREGORIAN
METHOD:PUBLISH
X-WR-CALNAME:HVÖ Harmonikaverband Österreichs
X-ORIGINAL-URL:https://harmonikaverband.at
X-WR-CALDESC:Veranstaltungen im HVÖ Harmonikaverband Österreichs
BEGIN:VTIMEZONE
TZID:"Europe/Vienna"
BEGIN:DAYLIGHT
TZOFFSETFROM:+0100
TZOFFSETTO:+0200
TZNAME:CEST
DTSTART:20190331T010000
END:DAYLIGHT
BEGIN:STANDARD
TZOFFSETFROM:+0200
TZOFFSETTO:+0100
TZNAME:CET
DTSTART:20191027T010000
END:STANDARD
END:VTIMEZONE
BEGIN:VEVENT
DTSTART;TZID="Europe/Vienna":20190426T190000
DTEND;TZID="Europe/Vienna":20190426T190000
DTSTAMP:20260422T052854
CREATED:20181205T081427Z
LAST-MODIFIED:20181205T081427Z
UID:1958-1556305200-1556305200@harmonikaverband.at
SUMMARY:Einfach tierisch!
DESCRIPTION:Für dieses Konzert haben wir eine tierisch gute Stückauswahl getroffen. Den Abend gestalten das Ensemble Da Capo und das Orchester des WAF unter der musikalischen Leitung von Mag. Christian Höller. Wir freuen uns auf Sie! \n
URL:https://harmonikaverband.at/event/einfach-tierisch/
LOCATION:Theatersaal am Kurpark Oberlaa\, Fontanastraße 10\, Wien\, 1100
CATEGORIES:Konzerte
ATTACH;FMTTYPE=image/jpeg:https://harmonikaverband.at/wp-content/uploads/2018/12/Akkordeonclub-Favoriten.jpeg
ORGANIZER;CN="Wiener%20Akkordeonclub%20Favoriten":MAILTO:info@akkordeonclub.at
END:VEVENT
END:VCALENDAR