BEGIN:VCALENDAR
VERSION:2.0
PRODID:-//HVÖ Harmonikaverband Österreichs - ECPv4.9.7//NONSGML v1.0//EN
CALSCALE:GREGORIAN
METHOD:PUBLISH
X-WR-CALNAME:HVÖ Harmonikaverband Österreichs
X-ORIGINAL-URL:https://harmonikaverband.at
X-WR-CALDESC:Veranstaltungen im HVÖ Harmonikaverband Österreichs
BEGIN:VTIMEZONE
TZID:"Europe/Vienna"
BEGIN:DAYLIGHT
TZOFFSETFROM:+0100
TZOFFSETTO:+0200
TZNAME:CEST
DTSTART:20190331T010000
END:DAYLIGHT
BEGIN:STANDARD
TZOFFSETFROM:+0200
TZOFFSETTO:+0100
TZNAME:CET
DTSTART:20191027T010000
END:STANDARD
END:VTIMEZONE
BEGIN:VEVENT
DTSTART;TZID="Europe/Vienna":20190811T110000
DTEND;TZID="Europe/Vienna":20190811T140000
DTSTAMP:20260422T035220
CREATED:20190516T144443Z
LAST-MODIFIED:20190516T145200Z
UID:2891-1565521200-1565532000@harmonikaverband.at
SUMMARY:Ein Traum macht Vorschläge - Schubert und Schuberth
DESCRIPTION:ANNA MARIA PAMMER (Sopran)\, VERENA SENNEKAMP (Violoncello)\, MILOŠ KATANIĆ (Akkordeon) \nUraufführung des Stückes “Ein Traum macht Vorschläge” von Paul Schuberth\, nach dem Gedicht von Erich Kästner \nWerke von Franz Schubert\, Leoš Janáček\, Paul Dessau\,\nJean Wiéner und Paul Schuberth (UA des Auftragswerks) \n  \nhttps://www.donau-festwochen.at/programm-2019/ \n
URL:https://harmonikaverband.at/event/ein-traum-macht-vorschlaege-schubert-und-schuberth/
CATEGORIES:Konzerte
END:VEVENT
END:VCALENDAR