BEGIN:VCALENDAR
VERSION:2.0
PRODID:-//HVÖ Harmonikaverband Österreichs - ECPv4.9.7//NONSGML v1.0//EN
CALSCALE:GREGORIAN
METHOD:PUBLISH
X-WR-CALNAME:HVÖ Harmonikaverband Österreichs
X-ORIGINAL-URL:https://harmonikaverband.at
X-WR-CALDESC:Veranstaltungen im HVÖ Harmonikaverband Österreichs
BEGIN:VTIMEZONE
TZID:"Europe/Vienna"
BEGIN:DAYLIGHT
TZOFFSETFROM:+0100
TZOFFSETTO:+0200
TZNAME:CEST
DTSTART:20180325T010000
END:DAYLIGHT
BEGIN:STANDARD
TZOFFSETFROM:+0200
TZOFFSETTO:+0100
TZNAME:CET
DTSTART:20181028T010000
END:STANDARD
END:VTIMEZONE
BEGIN:VEVENT
DTSTART;TZID="Europe/Vienna":20181116T193000
DTEND;TZID="Europe/Vienna":20181116T220000
DTSTAMP:20260422T081501
CREATED:20180920T144557Z
LAST-MODIFIED:20180924T081141Z
UID:1596-1542396600-1542405600@harmonikaverband.at
SUMMARY:Duo ARCORD
DESCRIPTION:ANA TOPALOVIC\, VIOLONCELLO \nNIKOLA DJORIC\, AKKORDEON \n  \n„Ana Topalovics und Nikola Djorics Kunst vereint zu gleichen Teilen Harmonie und Spannung: die beiden Interpreten oder besser gesagt ihre Instrumente  \nver-schmelzen miteinander und ergänzen sich auf das Vortrefflichste\, sie begegnen sich in einer innigen Umarmung. Wunderbar!”   (Klassik Heute\, 22.4.2016) \n
URL:https://harmonikaverband.at/event/duo-arkord-2/
LOCATION:Sparkassen-Lounge\, Hauptplatz 2\, Neunkirchen\, Niederösterreich\, 2620\, Österreich
CATEGORIES:Konzerte
ATTACH;FMTTYPE=image/jpeg:https://harmonikaverband.at/wp-content/uploads/2018/09/DUO-ARCORDFoto.jpeg
END:VEVENT
END:VCALENDAR