BEGIN:VCALENDAR
VERSION:2.0
PRODID:-//HVÖ Harmonikaverband Österreichs - ECPv4.9.7//NONSGML v1.0//EN
CALSCALE:GREGORIAN
METHOD:PUBLISH
X-WR-CALNAME:HVÖ Harmonikaverband Österreichs
X-ORIGINAL-URL:https://harmonikaverband.at
X-WR-CALDESC:Veranstaltungen im HVÖ Harmonikaverband Österreichs
BEGIN:VTIMEZONE
TZID:"Europe/Vienna"
BEGIN:DAYLIGHT
TZOFFSETFROM:+0100
TZOFFSETTO:+0200
TZNAME:CEST
DTSTART:20220327T010000
END:DAYLIGHT
BEGIN:STANDARD
TZOFFSETFROM:+0200
TZOFFSETTO:+0100
TZNAME:CET
DTSTART:20221030T010000
END:STANDARD
END:VTIMEZONE
BEGIN:VEVENT
DTSTART;TZID="Europe/Vienna":20221009T110000
DTEND;TZID="Europe/Vienna":20221009T130000
DTSTAMP:20260421T195227
CREATED:20220829T125110Z
LAST-MODIFIED:20220830T104801Z
UID:6416-1665313200-1665320400@harmonikaverband.at
SUMMARY:Klaus Paier mit Camerata-Bläserquintett
DESCRIPTION:Das Camerata Quintett besteht aus fünf Musikerinnen und Musiker der Camerata Sinfonica Austria\, einem Orchester\, welches große Werke in „Taschenphilharmonie-Besetzung“ aufführt. Die vier Holzbläser Melanija Pintar und Tomaž Adamič aus Slowenien\, Julia Fellner bzw. Michael Tavernaro aus Kärnten\, ebenso wie der Kärntner Hornist Hannes Burgstaller begeben sich auf eine musikalische Reise durch die Welt der Holzbläserquintett-Kammermusik und freuen sich\, Ihnen alt Bekanntes und neu Arrangiertes und Komponiertes u.a. mit dem Jazz-Akkordeonisten Klaus Paier zu präsentieren. Sein Werk „Five Musical Moments“ wird in der Besetzung des Holzbläserquintetts mit Solo-Akkordeon auf die Konzertbühne gebracht. \nhttps://althofen.gv.at/unser-althofen/termine/termine-detail?tx_news_pi1%5Baction%5D=detail&tx_news_pi1%5Bcontroller%5D=News&tx_news_pi1%5Bnews%5D=19886&cHash=48c8ea83b58b93351a1f571ce7027a46 \n
URL:https://harmonikaverband.at/event/camerata-blaeserquintett-mit-klaus-paier/
LOCATION:Hemmalandssaal – MS Althofen\, Schulgasse 3\, 9330
CATEGORIES:Konzerte
ATTACH;FMTTYPE=image/jpeg:https://harmonikaverband.at/wp-content/uploads/2022/08/Kammermusik.jpg
END:VEVENT
END:VCALENDAR