BEGIN:VCALENDAR
VERSION:2.0
PRODID:-//HVÖ Harmonikaverband Österreichs - ECPv4.9.7//NONSGML v1.0//EN
CALSCALE:GREGORIAN
METHOD:PUBLISH
X-WR-CALNAME:HVÖ Harmonikaverband Österreichs
X-ORIGINAL-URL:https://harmonikaverband.at
X-WR-CALDESC:Veranstaltungen im HVÖ Harmonikaverband Österreichs
BEGIN:VTIMEZONE
TZID:"Europe/Vienna"
BEGIN:DAYLIGHT
TZOFFSETFROM:+0100
TZOFFSETTO:+0200
TZNAME:CEST
DTSTART:20200329T010000
END:DAYLIGHT
BEGIN:STANDARD
TZOFFSETFROM:+0200
TZOFFSETTO:+0100
TZNAME:CET
DTSTART:20201025T010000
END:STANDARD
END:VTIMEZONE
BEGIN:VEVENT
DTSTART;TZID="Europe/Vienna":20201023T200000
DTEND;TZID="Europe/Vienna":20201023T230000
DTSTAMP:20260422T002958
CREATED:20201012T121728Z
LAST-MODIFIED:20201012T123122Z
UID:4516-1603483200-1603494000@harmonikaverband.at
SUMMARY:Bratko Bibič & Dedley Woodleybears
DESCRIPTION:http://Kultur im Amthof \n
URL:https://harmonikaverband.at/event/bratko-bibic-dedley-woodleybears/
LOCATION:Amthof\, Amthofgasse 5\, Feldkirchen\, 9560
CATEGORIES:Konzerte
ATTACH;FMTTYPE=image/jpeg:https://harmonikaverband.at/wp-content/uploads/2020/10/BibicWodleybears.jpg
END:VEVENT
END:VCALENDAR