BEGIN:VCALENDAR
VERSION:2.0
PRODID:-//HVÖ Harmonikaverband Österreichs - ECPv4.9.7//NONSGML v1.0//EN
CALSCALE:GREGORIAN
METHOD:PUBLISH
X-WR-CALNAME:HVÖ Harmonikaverband Österreichs
X-ORIGINAL-URL:https://harmonikaverband.at
X-WR-CALDESC:Veranstaltungen im HVÖ Harmonikaverband Österreichs
BEGIN:VTIMEZONE
TZID:"Europe/Vienna"
BEGIN:DAYLIGHT
TZOFFSETFROM:+0100
TZOFFSETTO:+0200
TZNAME:CEST
DTSTART:20210328T010000
END:DAYLIGHT
BEGIN:STANDARD
TZOFFSETFROM:+0200
TZOFFSETTO:+0100
TZNAME:CET
DTSTART:20211031T010000
END:STANDARD
END:VTIMEZONE
BEGIN:VEVENT
DTSTART;TZID="Europe/Vienna":20211012T190000
DTEND;TZID="Europe/Vienna":20211012T203000
DTSTAMP:20260421T231023
CREATED:20210916T155150Z
LAST-MODIFIED:20210916T155150Z
UID:5297-1634065200-1634070600@harmonikaverband.at
SUMMARY:Blues Harp Aufbaukurs
DESCRIPTION:Kurs Bechter 2021\n
URL:https://harmonikaverband.at/event/blues-harp-aufbaukurs-3/
LOCATION:Gasthof Habsburg\, Graf Maximilianstraße 19\, Hohenems\, Österreich
CATEGORIES:Kurse / Workshops
END:VEVENT
END:VCALENDAR